{"text_format":"1","workbook":"xlsx","n_sheets":6,"sheets":["C1 muži","K1 ženy","C2 muži","K1 muži","C1 ženy","bodovani"],"not_rendered":{"charts":0,"images":0,"macros":1,"external_links":0,"defined_names":5,"comments":0,"pivot_tables":0},"unopened":[],"bounds":{"document_bytes":16777216,"sheet_cells":100000,"rows_first":2000,"rows_last":500,"rows_between":2000,"halvings":0,"cell_chars":16384,"cell_head_chars":4096},"cells_cut":0,"cells_raw":0,"read":"whole","date_system":"1900"}

{"sheet":"C1 muži","index":0,"n_rows":24,"n_cols":33,"rows_kept":24,"cut":false,"hidden":false,"merged":[[4,0,5,0],[0,1,0,21],[4,6,4,9],[4,10,4,13],[4,14,4,17],[4,1,5,1],[4,2,4,5]]}
[null,"Výsledky nominace 2013"]
[]
[]
[null,"C1 muži"]
["ID","Jméno","Trnávka - 1",null,null,null,"Trnávka - 2",null,null,null,"Troja - 1",null,null,null,"Troja - 2",null,null,null,"Plus ","BODY","POMĚR","%","POŘ."]
[null,null,"poř.","body","Výsledek","%","poř.","body","výsledek","%","poř.","body","výsledek","%","poř.","body","výsledek","%","Body","CELKEM","VÍTĚZSTVÍ","CELKEM","CELKEM"]
[1,"JÁNĚ M. ",3,{"$f":"IF(ISBLANK($B7),\"\",IF(ISBLANK(C7),0,IF(C7<11,LOOKUP(C7,bodovani!$A$2:$B$11),0)))","v":8},94.25,{"$f":"IF(SUM(E$7:E$24)>0,IF(ISNUMBER(E7),E7/(MIN(E$7:E$24)/100)-100,999),\"0\")","v":0.6084543125533628},2,{"$f":"IF(ISBLANK($B7),\"\",IF(ISBLANK(G7),0,IF(G7<11,LOOKUP(G7,bodovani!$A$2:$B$11),0)))","v":9},93.03,{"$f":"IF(SUM(I$7:I$24)>0,IF(ISNUMBER(I7),I7/(MIN(I$7:I$24)/100)-100,999),\"0\")","v":0.77998050048748269},2,{"$f":"IF(ISBLANK($B7),\"\",IF(ISBLANK(K7),0,IF(K7<11,LOOKUP(K7,bodovani!$A$2:$B$11),0)))","v":9},93.31,{"$f":"IF(SUM(M$7:M$24)>0,IF(ISNUMBER(M7),M7/(MIN(M$7:M$24)/100)-100,999),\"0\")","v":0.60377358490566735},null,{"$f":"IF(ISBLANK($B7),\"\",IF(ISBLANK(O7),0,IF(O7<11,LOOKUP(O7,bodovani!$A$2:$B$11),0)))","v":0},null,{"$f":"IF(SUM(Q$7:Q$24)>0,IF(ISNUMBER(Q7),Q7/(MIN(Q$7:Q$24)/100)-100,999),\"0\")","v":"0"},null,{"$f":"(D7+H7+L7+P7)-MIN(D7,H7,L7,P7)+S7","v":26},null,{"$f":"(F7+J7+N7+R7)-MAX(F7,J7,N7,R7)","v":1.2122278974590301},1,null,null,null,null,null,null,null,20,6,5]
[2,"GEBAS ",5,{"$f":"IF(ISBLANK($B8),\"\",IF(ISBLANK(C8),0,IF(C8<11,LOOKUP(C8,bodovani!$A$2:$B$11),0)))","v":6},95.43,1.8680614859094788,4,{"$f":"IF(ISBLANK($B8),\"\",IF(ISBLANK(G8),0,IF(G8<11,LOOKUP(G8,bodovani!$A$2:$B$11),0)))","v":7},93.48,1.26746831329217,1,{"$f":"IF(ISBLANK($B8),\"\",IF(ISBLANK(K8),0,IF(K8<11,LOOKUP(K8,bodovani!$A$2:$B$11),0)))","v":11},92.75,0,null,{"$f":"IF(ISBLANK($B8),\"\",IF(ISBLANK(O8),0,IF(O8<11,LOOKUP(O8,bodovani!$A$2:$B$11),0)))","v":0},null,"0",null,24,null,1.26746831329217,2,null,null,null,null,null,null,null,19,11,1]
[3,"JEŽEK",2,{"$f":"IF(ISBLANK($B9),\"\",IF(ISBLANK(C9),0,IF(C9<11,LOOKUP(C9,bodovani!$A$2:$B$11),0)))","v":9},93.81,0.13877028181040885,5,{"$f":"IF(ISBLANK($B9),\"\",IF(ISBLANK(G9),0,IF(G9<11,LOOKUP(G9,bodovani!$A$2:$B$11),0)))","v":6},94.76,2.6541003141588106,3,{"$f":"IF(ISBLANK($B9),\"\",IF(ISBLANK(K9),0,IF(K9<11,LOOKUP(K9,bodovani!$A$2:$B$11),0)))","v":8},93.97,1.3153638814016233,null,{"$f":"IF(ISBLANK($B9),\"\",IF(ISBLANK(O9),0,IF(O9<11,LOOKUP(O9,bodovani!$A$2:$B$11),0)))","v":0},null,"0",null,23,null,1.4541341632120321,3,null,null,null,null,null,null,null,16,10,11]
[4,"MAŠEK",4,{"$f":"IF(ISBLANK($B10),\"\",IF(ISBLANK(C10),0,IF(C10<11,LOOKUP(C10,bodovani!$A$2:$B$11),0)))","v":7},95.07,1.4837745516652348,3,{"$f":"IF(ISBLANK($B10),\"\",IF(ISBLANK(G10),0,IF(G10<11,LOOKUP(G10,bodovani!$A$2:$B$11),0)))","v":8},93.18,0.94247643808904513,4,{"$f":"IF(ISBLANK($B10),\"\",IF(ISBLANK(K10),0,IF(K10<11,LOOKUP(K10,bodovani!$A$2:$B$11),0)))","v":7},94.02,1.3692722371967676,null,{"$f":"IF(ISBLANK($B10),\"\",IF(ISBLANK(O10),0,IF(O10<11,LOOKUP(O10,bodovani!$A$2:$B$11),0)))","v":0},null,"0",null,22,null,2.3117486752858127,4,null,null,null,null,null,null,null,16,7,1999]
[5,"ŘÍHA - 23",7,{"$f":"IF(ISBLANK($B11),\"\",IF(ISBLANK(C11),0,IF(C11<11,LOOKUP(C11,bodovani!$A$2:$B$11),0)))","v":4},97.89,4.4940222032450805,1,{"$f":"IF(ISBLANK($B11),\"\",IF(ISBLANK(G11),0,IF(G11<11,LOOKUP(G11,bodovani!$A$2:$B$11),0)))","v":11},92.31,0,5,{"$f":"IF(ISBLANK($B11),\"\",IF(ISBLANK(K11),0,IF(K11<11,LOOKUP(K11,bodovani!$A$2:$B$11),0)))","v":6},96.52,4.0646900269541817,null,{"$f":"IF(ISBLANK($B11),\"\",IF(ISBLANK(O11),0,IF(O11<11,LOOKUP(O11,bodovani!$A$2:$B$11),0)))","v":0},null,"0",null,21,2,4.0646900269541817,5,null,null,null,null,null,null,null,14,4,4]
[6,"RAK ",1,{"$f":"IF(ISBLANK($B12),\"\",IF(ISBLANK(C12),0,IF(C12<11,LOOKUP(C12,bodovani!$A$2:$B$11),0)))","v":11},93.68,0,6,{"$f":"IF(ISBLANK($B12),\"\",IF(ISBLANK(G12),0,IF(G12<11,LOOKUP(G12,bodovani!$A$2:$B$11),0)))","v":5},95.56,3.5207453147004628,6,{"$f":"IF(ISBLANK($B12),\"\",IF(ISBLANK(K12),0,IF(K12<11,LOOKUP(K12,bodovani!$A$2:$B$11),0)))","v":5},98.24,5.9191374663072764,null,{"$f":"IF(ISBLANK($B12),\"\",IF(ISBLANK(O12),0,IF(O12<11,LOOKUP(O12,bodovani!$A$2:$B$11),0)))","v":0},null,"0",null,21,1,3.5207453147004628,6,null,null,null,null,null,null,null,13,5,3]
[7,"FOUKAL  ",6,{"$f":"IF(ISBLANK($B13),\"\",IF(ISBLANK(C13),0,IF(C13<11,LOOKUP(C13,bodovani!$A$2:$B$11),0)))","v":5},95.82,2.2843723313407196,8,{"$f":"IF(ISBLANK($B13),\"\",IF(ISBLANK(G13),0,IF(G13<11,LOOKUP(G13,bodovani!$A$2:$B$11),0)))","v":3},96.98,5.0590401906619036,7,{"$f":"IF(ISBLANK($B13),\"\",IF(ISBLANK(K13),0,IF(K13<11,LOOKUP(K13,bodovani!$A$2:$B$11),0)))","v":4},99.12,6.8679245283018986,null,{"$f":"IF(ISBLANK($B13),\"\",IF(ISBLANK(O13),0,IF(O13<11,LOOKUP(O13,bodovani!$A$2:$B$11),0)))","v":0},null,"0",null,12,null,7.3434125220026232,7,null,null,null,null,null,null,null,11,9,1999]
[8,"BUSTA ",11,{"$f":"IF(ISBLANK($B14),\"\",IF(ISBLANK(C14),0,IF(C14<11,LOOKUP(C14,bodovani!$A$2:$B$11),0)))","v":0},97.28,3.8428693424423557,7,{"$f":"IF(ISBLANK($B14),\"\",IF(ISBLANK(G14),0,IF(G14<11,LOOKUP(G14,bodovani!$A$2:$B$11),0)))","v":4},96.04,4.0407323150254655,8,{"$f":"IF(ISBLANK($B14),\"\",IF(ISBLANK(K14),0,IF(K14<11,LOOKUP(K14,bodovani!$A$2:$B$11),0)))","v":3},100.84,8.7223719676549933,null,{"$f":"IF(ISBLANK($B14),\"\",IF(ISBLANK(O14),0,IF(O14<11,LOOKUP(O14,bodovani!$A$2:$B$11),0)))","v":0},null,"0",null,7,null,7.8836016574678212,8,null,null,null,null,null,null,null,11,3,8]
[9,"VLČEK - 23",8,{"$f":"IF(ISBLANK($B15),\"\",IF(ISBLANK(C15),0,IF(C15<11,LOOKUP(C15,bodovani!$A$2:$B$11),0)))","v":3},99.58,6.2980358667805234,14,{"$f":"IF(ISBLANK($B15),\"\",IF(ISBLANK(G15),0,IF(G15<11,LOOKUP(G15,bodovani!$A$2:$B$11),0)))","v":0},101.8,10.280576318925355,9,{"$f":"IF(ISBLANK($B15),\"\",IF(ISBLANK(K15),0,IF(K15<11,LOOKUP(K15,bodovani!$A$2:$B$11),0)))","v":2},102.71,10.738544474393521,null,{"$f":"IF(ISBLANK($B15),\"\",IF(ISBLANK(O15),0,IF(O15<11,LOOKUP(O15,bodovani!$A$2:$B$11),0)))","v":0},null,"0",null,5,null,16.578612185705879,9,null,null,null,null,null,null,null,11,1,7]
[10,"JORDÁN - 23",9,{"$f":"IF(ISBLANK($B16),\"\",IF(ISBLANK(C16),0,IF(C16<11,LOOKUP(C16,bodovani!$A$2:$B$11),0)))","v":2},100.21,6.9705380017079221,12,{"$f":"IF(ISBLANK($B16),\"\",IF(ISBLANK(G16),0,IF(G16<11,LOOKUP(G16,bodovani!$A$2:$B$11),0)))","v":0},100.42,8.7856136929910065,null,{"$f":"IF(ISBLANK($B16),\"\",IF(ISBLANK(K16),0,IF(K16<11,LOOKUP(K16,bodovani!$A$2:$B$11),0)))","v":0},null,999,null,{"$f":"IF(ISBLANK($B16),\"\",IF(ISBLANK(O16),0,IF(O16<11,LOOKUP(O16,bodovani!$A$2:$B$11),0)))","v":0},null,"0",null,2,1,15.756151694698929,10,null,null,null,null,null,null,null,5,8,9]
[11,"ROHAN - 23",12,{"$f":"IF(ISBLANK($B17),\"\",IF(ISBLANK(C17),0,IF(C17<11,LOOKUP(C17,bodovani!$A$2:$B$11),0)))","v":0},98.43,5.0704526046114466,9,{"$f":"IF(ISBLANK($B17),\"\",IF(ISBLANK(G17),0,IF(G17<11,LOOKUP(G17,bodovani!$A$2:$B$11),0)))","v":2},102.4,10.930560069331605,null,{"$f":"IF(ISBLANK($B17),\"\",IF(ISBLANK(K17),0,IF(K17<11,LOOKUP(K17,bodovani!$A$2:$B$11),0)))","v":0},null,999,null,{"$f":"IF(ISBLANK($B17),\"\",IF(ISBLANK(O17),0,IF(O17<11,LOOKUP(O17,bodovani!$A$2:$B$11),0)))","v":0},null,"0",null,2,1,16.001012673943023,11,null,null,null,null,null,null,null,4,2,10]
[12,"INDRUCH",13,{"$f":"IF(ISBLANK($B18),\"\",IF(ISBLANK(C18),0,IF(C18<11,LOOKUP(C18,bodovani!$A$2:$B$11),0)))","v":0},99.7,6.4261315115285953,10,{"$f":"IF(ISBLANK($B18),\"\",IF(ISBLANK(G18),0,IF(G18<11,LOOKUP(G18,bodovani!$A$2:$B$11),0)))","v":1},103.19,11.786372007366481,null,{"$f":"IF(ISBLANK($B18),\"\",IF(ISBLANK(K18),0,IF(K18<11,LOOKUP(K18,bodovani!$A$2:$B$11),0)))","v":0},null,999,null,{"$f":"IF(ISBLANK($B18),\"\",IF(ISBLANK(O18),0,IF(O18<11,LOOKUP(O18,bodovani!$A$2:$B$11),0)))","v":0},null,"0",null,1,3,18.212503518895119,12,null,null,null,null,null,null,null,0,14,0]
[13,"MALÝ ",10,{"$f":"IF(ISBLANK($B19),\"\",IF(ISBLANK(C19),0,IF(C19<11,LOOKUP(C19,bodovani!$A$2:$B$11),0)))","v":1},105.78,12.916310845431241,11,{"$f":"IF(ISBLANK($B19),\"\",IF(ISBLANK(G19),0,IF(G19<11,LOOKUP(G19,bodovani!$A$2:$B$11),0)))","v":0},100.39,8.7531145054706911,null,{"$f":"IF(ISBLANK($B19),\"\",IF(ISBLANK(K19),0,IF(K19<11,LOOKUP(K19,bodovani!$A$2:$B$11),0)))","v":0},null,999,null,{"$f":"IF(ISBLANK($B19),\"\",IF(ISBLANK(O19),0,IF(O19<11,LOOKUP(O19,bodovani!$A$2:$B$11),0)))","v":0},null,"0",null,1,3,21.669425350901975,13,null,null,null,null,null,null,null,0,13,0]
[16,"CEPEK - 23",null,{"$f":"IF(ISBLANK($B20),\"\",IF(ISBLANK(C20),0,IF(C20<11,LOOKUP(C20,bodovani!$A$2:$B$11),0)))","v":0},null,999,null,{"$f":"IF(ISBLANK($B20),\"\",IF(ISBLANK(G20),0,IF(G20<11,LOOKUP(G20,bodovani!$A$2:$B$11),0)))","v":0},null,999,10,{"$f":"IF(ISBLANK($B20),\"\",IF(ISBLANK(K20),0,IF(K20<11,LOOKUP(K20,bodovani!$A$2:$B$11),0)))","v":1},103.48,11.568733153638817,null,{"$f":"IF(ISBLANK($B20),\"\",IF(ISBLANK(O20),0,IF(O20<11,LOOKUP(O20,bodovani!$A$2:$B$11),0)))","v":0},null,"0",null,1,2,1010.5687331536387,14,null,null,null,null,null,null,null,4,33,1999]
[17,18,null,{"$f":"IF(ISBLANK($B21),\"\",IF(ISBLANK(C21),0,IF(C21<11,LOOKUP(C21,bodovani!$A$2:$B$11),0)))","v":0},null,999,null,{"$f":"IF(ISBLANK($B21),\"\",IF(ISBLANK(G21),0,IF(G21<11,LOOKUP(G21,bodovani!$A$2:$B$11),0)))","v":0},null,999,null,{"$f":"IF(ISBLANK($B21),\"\",IF(ISBLANK(K21),0,IF(K21<11,LOOKUP(K21,bodovani!$A$2:$B$11),0)))","v":0},null,999,null,{"$f":"IF(ISBLANK($B21),\"\",IF(ISBLANK(O21),0,IF(O21<11,LOOKUP(O21,bodovani!$A$2:$B$11),0)))","v":0},null,"0",null,0,0,1998,15,null,null,null,null,null,null,null,4,27,0]
[18,17,null,{"$f":"IF(ISBLANK($B22),\"\",IF(ISBLANK(C22),0,IF(C22<11,LOOKUP(C22,bodovani!$A$2:$B$11),0)))","v":0},null,999,null,{"$f":"IF(ISBLANK($B22),\"\",IF(ISBLANK(G22),0,IF(G22<11,LOOKUP(G22,bodovani!$A$2:$B$11),0)))","v":0},null,999,null,{"$f":"IF(ISBLANK($B22),\"\",IF(ISBLANK(K22),0,IF(K22<11,LOOKUP(K22,bodovani!$A$2:$B$11),0)))","v":0},null,999,null,{"$f":"IF(ISBLANK($B22),\"\",IF(ISBLANK(O22),0,IF(O22<11,LOOKUP(O22,bodovani!$A$2:$B$11),0)))","v":0},null,"0",null,0,0,1998,16,null,null,null,null,null,null,null,3,26,29]
[19,19,null,{"$f":"IF(ISBLANK($B23),\"\",IF(ISBLANK(C23),0,IF(C23<11,LOOKUP(C23,bodovani!$A$2:$B$11),0)))","v":0},null,999,null,{"$f":"IF(ISBLANK($B23),\"\",IF(ISBLANK(G23),0,IF(G23<11,LOOKUP(G23,bodovani!$A$2:$B$11),0)))","v":0},null,999,null,{"$f":"IF(ISBLANK($B23),\"\",IF(ISBLANK(K23),0,IF(K23<11,LOOKUP(K23,bodovani!$A$2:$B$11),0)))","v":0},null,999,null,{"$f":"IF(ISBLANK($B23),\"\",IF(ISBLANK(O23),0,IF(O23<11,LOOKUP(O23,bodovani!$A$2:$B$11),0)))","v":0},null,"0",null,0,null,1998,null,null,null,null,null,null,null,null,3,20,1999]
[20,20,null,{"$f":"IF(ISBLANK($B24),\"\",IF(ISBLANK(C24),0,IF(C24<11,LOOKUP(C24,bodovani!$A$2:$B$11),0)))","v":0},null,999,null,{"$f":"IF(ISBLANK($B24),\"\",IF(ISBLANK(G24),0,IF(G24<11,LOOKUP(G24,bodovani!$A$2:$B$11),0)))","v":0},null,999,null,{"$f":"IF(ISBLANK($B24),\"\",IF(ISBLANK(K24),0,IF(K24<11,LOOKUP(K24,bodovani!$A$2:$B$11),0)))","v":0},null,999,null,{"$f":"IF(ISBLANK($B24),\"\",IF(ISBLANK(O24),0,IF(O24<11,LOOKUP(O24,bodovani!$A$2:$B$11),0)))","v":0},null,"0",null,0,null,1998,null,null,null,null,null,null,null,null,2,37,1999]

{"sheet":"K1 ženy","index":1,"n_rows":25,"n_cols":33,"rows_kept":25,"cut":false,"hidden":false,"merged":[[4,0,5,0],[0,1,0,21],[4,6,4,9],[4,10,4,13],[4,14,4,17],[4,1,5,1],[4,2,4,5]]}
[null,"Výsledky nominace 2013"]
[]
[]
[null,"K1 ženy"]
["ID","Jméno","Trnávka - 1",null,null,null,"Trnávka - 2",null,null,null,"Troja - 1",null,null,null,"Troja - 2",null,null,null,"Plus ","BODY","POMĚR","%","POŘ."]
[null,null,"poř.","body","Výsledek","%","poř.","body","výsledek","%","poř.","body","výsledek","%","poř.","body","výsledek","%","Body","CELKEM","VÍTĚZSTVÍ","CELKEM","CELKEM"]
[1,"HILGERTOVÁ",1,{"$f":"IF(ISBLANK($B7),\"\",IF(ISBLANK(C7),0,IF(C7<11,LOOKUP(C7,bodovani!$A$2:$B$11),0)))","v":11},100.02,{"$f":"IF(SUM(E$7:E$25)>0,IF(ISNUMBER(E7),E7/(MIN(E$7:E$25)/100)-100,999),\"0\")","v":0},4,{"$f":"IF(ISBLANK($B7),\"\",IF(ISBLANK(G7),0,IF(G7<11,LOOKUP(G7,bodovani!$A$2:$B$11),0)))","v":7},101,{"$f":"IF(SUM(I$7:I$25)>0,IF(ISNUMBER(I7),I7/(MIN(I$7:I$25)/100)-100,999),\"0\")","v":2.9246917354529813},1,{"$f":"IF(ISBLANK($B7),\"\",IF(ISBLANK(K7),0,IF(K7<11,LOOKUP(K7,bodovani!$A$2:$B$11),0)))","v":11},102.74,{"$f":"IF(SUM(M$7:M$25)>0,IF(ISNUMBER(M7),M7/(MIN(M$7:M$25)/100)-100,999),\"0\")","v":1.4210854715202004E-14},null,{"$f":"IF(ISBLANK($B7),\"\",IF(ISBLANK(O7),0,IF(O7<11,LOOKUP(O7,bodovani!$A$2:$B$11),0)))","v":0},null,{"$f":"IF(SUM(Q$7:Q$25)>0,IF(ISNUMBER(Q7),Q7/(MIN(Q$7:Q$25)/100)-100,999),\"0\")","v":"0"},null,{"$f":"(D7+H7+L7+P7)-MIN(D7,H7,L7,P7)+S7","v":29},null,{"$f":"(F7+J7+N7+R7)-MAX(F7,J7,N7,R7)","v":1.4210854715202004E-14},1,null,null,null,null,null,null,null,20,1,5]
[2,"KUDĚJOVÁ - 23",2,{"$f":"IF(ISBLANK($B8),\"\",IF(ISBLANK(C8),0,IF(C8<11,LOOKUP(C8,bodovani!$A$2:$B$11),0)))","v":9},101.87,1.8496300739852103,2,{"$f":"IF(ISBLANK($B8),\"\",IF(ISBLANK(G8),0,IF(G8<11,LOOKUP(G8,bodovani!$A$2:$B$11),0)))","v":9},98.77,0.65219606644247108,3,{"$f":"IF(ISBLANK($B8),\"\",IF(ISBLANK(K8),0,IF(K8<11,LOOKUP(K8,bodovani!$A$2:$B$11),0)))","v":8},105.24,2.4333268444617602,null,{"$f":"IF(ISBLANK($B8),\"\",IF(ISBLANK(O8),0,IF(O8<11,LOOKUP(O8,bodovani!$A$2:$B$11),0)))","v":0},null,"0",null,26,null,2.5018261404276814,2,null,null,null,null,null,null,null,19,7,3]
[3,"PAVELKOVÁ",4,{"$f":"IF(ISBLANK($B9),\"\",IF(ISBLANK(C9),0,IF(C9<11,LOOKUP(C9,bodovani!$A$2:$B$11),0)))","v":7},102.43,2.4095180963807366,5,{"$f":"IF(ISBLANK($B9),\"\",IF(ISBLANK(G9),0,IF(G9<11,LOOKUP(G9,bodovani!$A$2:$B$11),0)))","v":6},103.57,5.5436665647610255,4,{"$f":"IF(ISBLANK($B9),\"\",IF(ISBLANK(K9),0,IF(K9<11,LOOKUP(K9,bodovani!$A$2:$B$11),0)))","v":7},106.28,3.4455908117578531,null,{"$f":"IF(ISBLANK($B9),\"\",IF(ISBLANK(O9),0,IF(O9<11,LOOKUP(O9,bodovani!$A$2:$B$11),0)))","v":0},null,"0",null,20,null,5.8551089081385896,3,null,null,null,null,null,null,null,19,4,1999]
[4,"GALUŠKOVÁ - 23",11,{"$f":"IF(ISBLANK($B10),\"\",IF(ISBLANK(C10),0,IF(C10<11,LOOKUP(C10,bodovani!$A$2:$B$11),0)))","v":0},157.31,57.27854429114177,3,{"$f":"IF(ISBLANK($B10),\"\",IF(ISBLANK(G10),0,IF(G10<11,LOOKUP(G10,bodovani!$A$2:$B$11),0)))","v":8},100.53,2.4457352491592843,2,{"$f":"IF(ISBLANK($B10),\"\",IF(ISBLANK(K10),0,IF(K10<11,LOOKUP(K10,bodovani!$A$2:$B$11),0)))","v":9},104.74,1.9466614755693996,null,{"$f":"IF(ISBLANK($B10),\"\",IF(ISBLANK(O10),0,IF(O10<11,LOOKUP(O10,bodovani!$A$2:$B$11),0)))","v":0},null,"0",null,17,null,4.3923967247286839,4,null,null,null,null,null,null,null,18,9,4]
[5,"HOŠKOVÁ ",5,{"$f":"IF(ISBLANK($B11),\"\",IF(ISBLANK(C11),0,IF(C11<11,LOOKUP(C11,bodovani!$A$2:$B$11),0)))","v":6},105.01,4.9890021995600904,6,{"$f":"IF(ISBLANK($B11),\"\",IF(ISBLANK(G11),0,IF(G11<11,LOOKUP(G11,bodovani!$A$2:$B$11),0)))","v":5},105.71,7.7244471619280546,6,{"$f":"IF(ISBLANK($B11),\"\",IF(ISBLANK(K11),0,IF(K11<11,LOOKUP(K11,bodovani!$A$2:$B$11),0)))","v":5},108.64,5.7426513529297409,null,{"$f":"IF(ISBLANK($B11),\"\",IF(ISBLANK(O11),0,IF(O11<11,LOOKUP(O11,bodovani!$A$2:$B$11),0)))","v":0},null,"0",null,16,4,10.731653552489831,5,null,null,null,null,null,null,null,17,2,2]
[6,"VOJTOVÁ -23",3,{"$f":"IF(ISBLANK($B12),\"\",IF(ISBLANK(C12),0,IF(C12<11,LOOKUP(C12,bodovani!$A$2:$B$11),0)))","v":8},101.99,1.9696060787842384,7,{"$f":"IF(ISBLANK($B12),\"\",IF(ISBLANK(G12),0,IF(G12<11,LOOKUP(G12,bodovani!$A$2:$B$11),0)))","v":4},106.68,8.7129318251299424,7,{"$f":"IF(ISBLANK($B12),\"\",IF(ISBLANK(K12),0,IF(K12<11,LOOKUP(K12,bodovani!$A$2:$B$11),0)))","v":4},110.39,7.4459801440529674,null,{"$f":"IF(ISBLANK($B12),\"\",IF(ISBLANK(O12),0,IF(O12<11,LOOKUP(O12,bodovani!$A$2:$B$11),0)))","v":0},null,"0",null,16,3,9.4155862228372058,6,null,null,null,null,null,null,null,14,8,6]
[7,"ORNSTOVÁ ",6,{"$f":"IF(ISBLANK($B13),\"\",IF(ISBLANK(C13),0,IF(C13<11,LOOKUP(C13,bodovani!$A$2:$B$11),0)))","v":5},105.15,5.1289742051589826,1,{"$f":"IF(ISBLANK($B13),\"\",IF(ISBLANK(G13),0,IF(G13<11,LOOKUP(G13,bodovani!$A$2:$B$11),0)))","v":11},98.13,0,null,{"$f":"IF(ISBLANK($B13),\"\",IF(ISBLANK(K13),0,IF(K13<11,LOOKUP(K13,bodovani!$A$2:$B$11),0)))","v":0},null,999,null,{"$f":"IF(ISBLANK($B13),\"\",IF(ISBLANK(O13),0,IF(O13<11,LOOKUP(O13,bodovani!$A$2:$B$11),0)))","v":0},null,"0",null,16,2,5.128974205159011,7,null,null,null,null,null,null,null,10,10,9]
[8,"ZÁSTĚROVÁ - 23",7,{"$f":"IF(ISBLANK($B14),\"\",IF(ISBLANK(C14),0,IF(C14<11,LOOKUP(C14,bodovani!$A$2:$B$11),0)))","v":4},105.49,5.4689062187562456,11,{"$f":"IF(ISBLANK($B14),\"\",IF(ISBLANK(G14),0,IF(G14<11,LOOKUP(G14,bodovani!$A$2:$B$11),0)))","v":0},99.99,1.89544481809844,5,{"$f":"IF(ISBLANK($B14),\"\",IF(ISBLANK(K14),0,IF(K14<11,LOOKUP(K14,bodovani!$A$2:$B$11),0)))","v":6},107.99,5.1099863733696793,null,{"$f":"IF(ISBLANK($B14),\"\",IF(ISBLANK(O14),0,IF(O14<11,LOOKUP(O14,bodovani!$A$2:$B$11),0)))","v":0},null,"0",null,10,null,7.0054311914681193,8,null,null,null,null,null,null,null,9,6,7]
[9,"VALÍKOVÁ - 23",8,{"$f":"IF(ISBLANK($B15),\"\",IF(ISBLANK(C15),0,IF(C15<11,LOOKUP(C15,bodovani!$A$2:$B$11),0)))","v":3},108.81,8.7882423515297035,9,{"$f":"IF(ISBLANK($B15),\"\",IF(ISBLANK(G15),0,IF(G15<11,LOOKUP(G15,bodovani!$A$2:$B$11),0)))","v":2},117.27,19.504738612045244,9,{"$f":"IF(ISBLANK($B15),\"\",IF(ISBLANK(K15),0,IF(K15<11,LOOKUP(K15,bodovani!$A$2:$B$11),0)))","v":2},116.23,13.130231652715608,null,{"$f":"IF(ISBLANK($B15),\"\",IF(ISBLANK(O15),0,IF(O15<11,LOOKUP(O15,bodovani!$A$2:$B$11),0)))","v":0},null,"0",null,7,null,21.918474004245311,9,null,null,null,null,null,null,null,7,11,10]
[10,"HILGERTOVÁ A. - 23",9,{"$f":"IF(ISBLANK($B16),\"\",IF(ISBLANK(C16),0,IF(C16<11,LOOKUP(C16,bodovani!$A$2:$B$11),0)))","v":2},113.28,13.257348530293939,10,{"$f":"IF(ISBLANK($B16),\"\",IF(ISBLANK(G16),0,IF(G16<11,LOOKUP(G16,bodovani!$A$2:$B$11),0)))","v":1},119.57,21.848568225822888,8,{"$f":"IF(ISBLANK($B16),\"\",IF(ISBLANK(K16),0,IF(K16<11,LOOKUP(K16,bodovani!$A$2:$B$11),0)))","v":3},112.25,9.2563753163325089,null,{"$f":"IF(ISBLANK($B16),\"\",IF(ISBLANK(O16),0,IF(O16<11,LOOKUP(O16,bodovani!$A$2:$B$11),0)))","v":0},null,"0",null,6,null,22.513723846626448,10,null,null,null,null,null,null,null,7,3,1999]
[11,"JANČOVÁ - 23",10,{"$f":"IF(ISBLANK($B17),\"\",IF(ISBLANK(C17),0,IF(C17<11,LOOKUP(C17,bodovani!$A$2:$B$11),0)))","v":1},119.92,19.89602079584084,8,{"$f":"IF(ISBLANK($B17),\"\",IF(ISBLANK(G17),0,IF(G17<11,LOOKUP(G17,bodovani!$A$2:$B$11),0)))","v":3},109.04,11.117904820136559,null,{"$f":"IF(ISBLANK($B17),\"\",IF(ISBLANK(K17),0,IF(K17<11,LOOKUP(K17,bodovani!$A$2:$B$11),0)))","v":0},null,999,null,{"$f":"IF(ISBLANK($B17),\"\",IF(ISBLANK(O17),0,IF(O17<11,LOOKUP(O17,bodovani!$A$2:$B$11),0)))","v":0},null,"0",null,4,null,31.013925615977314,11,null,null,null,null,null,null,null,2,5,0]
[13,"KAŠPAROVÁ",null,{"$f":"IF(ISBLANK($B18),\"\",IF(ISBLANK(C18),0,IF(C18<11,LOOKUP(C18,bodovani!$A$2:$B$11),0)))","v":0},null,999,null,{"$f":"IF(ISBLANK($B18),\"\",IF(ISBLANK(G18),0,IF(G18<11,LOOKUP(G18,bodovani!$A$2:$B$11),0)))","v":0},null,999,10,{"$f":"IF(ISBLANK($B18),\"\",IF(ISBLANK(K18),0,IF(K18<11,LOOKUP(K18,bodovani!$A$2:$B$11),0)))","v":1},122.01,18.756083317111177,null,{"$f":"IF(ISBLANK($B18),\"\",IF(ISBLANK(O18),0,IF(O18<11,LOOKUP(O18,bodovani!$A$2:$B$11),0)))","v":0},null,"0",null,1,null,1017.7560833171112,12,null,null,null,null,null,null,null,0,13,0]
[14,15,null,{"$f":"IF(ISBLANK($B19),\"\",IF(ISBLANK(C19),0,IF(C19<11,LOOKUP(C19,bodovani!$A$2:$B$11),0)))","v":0},null,999,null,{"$f":"IF(ISBLANK($B19),\"\",IF(ISBLANK(G19),0,IF(G19<11,LOOKUP(G19,bodovani!$A$2:$B$11),0)))","v":0},null,999,null,{"$f":"IF(ISBLANK($B19),\"\",IF(ISBLANK(K19),0,IF(K19<11,LOOKUP(K19,bodovani!$A$2:$B$11),0)))","v":0},null,999,null,{"$f":"IF(ISBLANK($B19),\"\",IF(ISBLANK(O19),0,IF(O19<11,LOOKUP(O19,bodovani!$A$2:$B$11),0)))","v":0},null,"0",null,0,0,1998,13,null,null,null,null,null,null,null,0,12,0]
[15,"KOBLENCOVÁ  - 23",null,{"$f":"IF(ISBLANK($B20),\"\",IF(ISBLANK(C20),0,IF(C20<11,LOOKUP(C20,bodovani!$A$2:$B$11),0)))","v":0},null,999,null,{"$f":"IF(ISBLANK($B20),\"\",IF(ISBLANK(G20),0,IF(G20<11,LOOKUP(G20,bodovani!$A$2:$B$11),0)))","v":0},null,999,null,{"$f":"IF(ISBLANK($B20),\"\",IF(ISBLANK(K20),0,IF(K20<11,LOOKUP(K20,bodovani!$A$2:$B$11),0)))","v":0},null,999,null,{"$f":"IF(ISBLANK($B20),\"\",IF(ISBLANK(O20),0,IF(O20<11,LOOKUP(O20,bodovani!$A$2:$B$11),0)))","v":0},null,"0",null,0,0,1998,14,null,null,null,null,null,null,null,5,15,37]
[16,16,null,{"$f":"IF(ISBLANK($B21),\"\",IF(ISBLANK(C21),0,IF(C21<11,LOOKUP(C21,bodovani!$A$2:$B$11),0)))","v":0},null,999,null,{"$f":"IF(ISBLANK($B21),\"\",IF(ISBLANK(G21),0,IF(G21<11,LOOKUP(G21,bodovani!$A$2:$B$11),0)))","v":0},null,999,null,{"$f":"IF(ISBLANK($B21),\"\",IF(ISBLANK(K21),0,IF(K21<11,LOOKUP(K21,bodovani!$A$2:$B$11),0)))","v":0},null,999,null,{"$f":"IF(ISBLANK($B21),\"\",IF(ISBLANK(O21),0,IF(O21<11,LOOKUP(O21,bodovani!$A$2:$B$11),0)))","v":0},null,"0",null,0,null,1998,null,null,null,null,null,null,null,null,4,33,1999]
[17,17,null,{"$f":"IF(ISBLANK($B22),\"\",IF(ISBLANK(C22),0,IF(C22<11,LOOKUP(C22,bodovani!$A$2:$B$11),0)))","v":0},null,999,null,{"$f":"IF(ISBLANK($B22),\"\",IF(ISBLANK(G22),0,IF(G22<11,LOOKUP(G22,bodovani!$A$2:$B$11),0)))","v":0},null,999,null,{"$f":"IF(ISBLANK($B22),\"\",IF(ISBLANK(K22),0,IF(K22<11,LOOKUP(K22,bodovani!$A$2:$B$11),0)))","v":0},null,999,null,{"$f":"IF(ISBLANK($B22),\"\",IF(ISBLANK(O22),0,IF(O22<11,LOOKUP(O22,bodovani!$A$2:$B$11),0)))","v":0},null,"0",null,0,null,1998,null,null,null,null,null,null,null,null,4,27,0]
[18,18,null,{"$f":"IF(ISBLANK($B23),\"\",IF(ISBLANK(C23),0,IF(C23<11,LOOKUP(C23,bodovani!$A$2:$B$11),0)))","v":0},null,999,null,{"$f":"IF(ISBLANK($B23),\"\",IF(ISBLANK(G23),0,IF(G23<11,LOOKUP(G23,bodovani!$A$2:$B$11),0)))","v":0},null,999,null,{"$f":"IF(ISBLANK($B23),\"\",IF(ISBLANK(K23),0,IF(K23<11,LOOKUP(K23,bodovani!$A$2:$B$11),0)))","v":0},null,999,null,{"$f":"IF(ISBLANK($B23),\"\",IF(ISBLANK(O23),0,IF(O23<11,LOOKUP(O23,bodovani!$A$2:$B$11),0)))","v":0},null,"0",null,0,null,1998,null,null,null,null,null,null,null,null,3,26,29]
[19,19,null,{"$f":"IF(ISBLANK($B24),\"\",IF(ISBLANK(C24),0,IF(C24<11,LOOKUP(C24,bodovani!$A$2:$B$11),0)))","v":0},null,999,null,{"$f":"IF(ISBLANK($B24),\"\",IF(ISBLANK(G24),0,IF(G24<11,LOOKUP(G24,bodovani!$A$2:$B$11),0)))","v":0},null,999,null,{"$f":"IF(ISBLANK($B24),\"\",IF(ISBLANK(K24),0,IF(K24<11,LOOKUP(K24,bodovani!$A$2:$B$11),0)))","v":0},null,999,null,{"$f":"IF(ISBLANK($B24),\"\",IF(ISBLANK(O24),0,IF(O24<11,LOOKUP(O24,bodovani!$A$2:$B$11),0)))","v":0},null,"0",null,0,null,1998,null,null,null,null,null,null,null,null,3,20,1999]
[20,20,null,{"$f":"IF(ISBLANK($B25),\"\",IF(ISBLANK(C25),0,IF(C25<11,LOOKUP(C25,bodovani!$A$2:$B$11),0)))","v":0},null,999,null,{"$f":"IF(ISBLANK($B25),\"\",IF(ISBLANK(G25),0,IF(G25<11,LOOKUP(G25,bodovani!$A$2:$B$11),0)))","v":0},null,999,null,{"$f":"IF(ISBLANK($B25),\"\",IF(ISBLANK(K25),0,IF(K25<11,LOOKUP(K25,bodovani!$A$2:$B$11),0)))","v":0},null,999,null,{"$f":"IF(ISBLANK($B25),\"\",IF(ISBLANK(O25),0,IF(O25<11,LOOKUP(O25,bodovani!$A$2:$B$11),0)))","v":0},null,"0",null,0,null,1998,null,null,null,null,null,null,null,null,2,37,1999]

{"sheet":"C2 muži","index":2,"n_rows":23,"n_cols":33,"rows_kept":23,"cut":false,"hidden":false,"merged":[[4,0,5,0],[0,1,0,21],[4,6,4,9],[4,10,4,13],[4,14,4,17],[4,1,5,1],[4,2,4,5]]}
[null,"Výsledky nominace 2013"]
[]
[]
[null,"C2 muži"]
["ID","Jméno","Trnávka - 1",null,null,null,"Trnávka - 2",null,null,null,"Troja - 1",null,null,null,"Troja - 2",null,null,null,"Plus ","BODY","POMĚR","%","POŘ."]
[null,null,"poř.","body","Výsledek","%","poř.","body","výsledek","%","poř.","body","výsledek","%","poř.","body","výsledek","%","Body","CELKEM","VÍTĚZSTVÍ","CELKEM",0]
[1,"Kašpar - Šindler - 23",1,{"$f":"IF(ISBLANK($B7),\"\",IF(ISBLANK(C7),0,IF(C7<11,LOOKUP(C7,bodovani!$A$2:$B$11),0)))","v":11},95.09,{"$f":"IF(SUM(E$7:E$23)>0,IF(ISNUMBER(E7),E7/(MIN(E$7:E$23)/100)-100,999),\"0\")","v":0},1,{"$f":"IF(ISBLANK($B7),\"\",IF(ISBLANK(G7),0,IF(G7<11,LOOKUP(G7,bodovani!$A$2:$B$11),0)))","v":11},95.91,{"$f":"IF(SUM(I$7:I$23)>0,IF(ISNUMBER(I7),I7/(MIN(I$7:I$23)/100)-100,999),\"0\")","v":0},2,{"$f":"IF(ISBLANK($B7),\"\",IF(ISBLANK(K7),0,IF(K7<11,LOOKUP(K7,bodovani!$A$2:$B$11),0)))","v":9},101.87,{"$f":"IF(SUM(M$7:M$23)>0,IF(ISNUMBER(M7),M7/(MIN(M$7:M$23)/100)-100,999),\"0\")","v":0.91134224863793634},null,{"$f":"IF(ISBLANK($B7),\"\",IF(ISBLANK(O7),0,IF(O7<11,LOOKUP(O7,bodovani!$A$2:$B$11),0)))","v":0},null,{"$f":"IF(SUM(Q$7:Q$23)>0,IF(ISNUMBER(Q7),Q7/(MIN(Q$7:Q$23)/100)-100,999),\"0\")","v":"0"},null,{"$f":"(D7+H7+L7+P7)-MIN(D7,H7,L7,P7)+S7","v":31},null,{"$f":"(F7+J7+N7+R7)-MAX(F7,J7,N7,R7)","v":0},1,null,null,null,null,null,null,null,20,1,5]
[2,"Karlovský - Jáně -23",2,{"$f":"IF(ISBLANK($B8),\"\",IF(ISBLANK(C8),0,IF(C8<11,LOOKUP(C8,bodovani!$A$2:$B$11),0)))","v":9},98.31,3.386265643074978,3,{"$f":"IF(ISBLANK($B8),\"\",IF(ISBLANK(G8),0,IF(G8<11,LOOKUP(G8,bodovani!$A$2:$B$11),0)))","v":8},99.99,4.2539881138567353,1,{"$f":"IF(ISBLANK($B8),\"\",IF(ISBLANK(K8),0,IF(K8<11,LOOKUP(K8,bodovani!$A$2:$B$11),0)))","v":11},100.95,0,null,{"$f":"IF(ISBLANK($B8),\"\",IF(ISBLANK(O8),0,IF(O8<11,LOOKUP(O8,bodovani!$A$2:$B$11),0)))","v":0},null,"0",null,28,null,3.386265643074978,2,null,null,null,null,null,null,null,19,7,3]
[3,"Havlíček - Přinda",3,{"$f":"IF(ISBLANK($B9),\"\",IF(ISBLANK(C9),0,IF(C9<11,LOOKUP(C9,bodovani!$A$2:$B$11),0)))","v":8},103.09,8.4130823430434276,2,{"$f":"IF(ISBLANK($B9),\"\",IF(ISBLANK(G9),0,IF(G9<11,LOOKUP(G9,bodovani!$A$2:$B$11),0)))","v":9},99.25,3.4824314461474302,3,{"$f":"IF(ISBLANK($B9),\"\",IF(ISBLANK(K9),0,IF(K9<11,LOOKUP(K9,bodovani!$A$2:$B$11),0)))","v":8},105.62,4.6260525012382345,null,{"$f":"IF(ISBLANK($B9),\"\",IF(ISBLANK(O9),0,IF(O9<11,LOOKUP(O9,bodovani!$A$2:$B$11),0)))","v":0},null,"0",null,25,null,8.1084839473856647,3,null,null,null,null,null,null,null,19,4,1999]
[4,"Koplík - Vrzáň ",4,{"$f":"IF(ISBLANK($B10),\"\",IF(ISBLANK(C10),0,IF(C10<11,LOOKUP(C10,bodovani!$A$2:$B$11),0)))","v":7},104.02,9.3911031654222228,4,{"$f":"IF(ISBLANK($B10),\"\",IF(ISBLANK(G10),0,IF(G10<11,LOOKUP(G10,bodovani!$A$2:$B$11),0)))","v":7},100.92,5.2236471692211524,7,{"$f":"IF(ISBLANK($B10),\"\",IF(ISBLANK(K10),0,IF(K10<11,LOOKUP(K10,bodovani!$A$2:$B$11),0)))","v":4},113.68,12.61020307082714,null,{"$f":"IF(ISBLANK($B10),\"\",IF(ISBLANK(O10),0,IF(O10<11,LOOKUP(O10,bodovani!$A$2:$B$11),0)))","v":0},null,"0",null,18,2,14.614750334643375,4,null,null,null,null,null,null,null,18,9,4]
[5,"Rohan-Svoboda - 23",5,{"$f":"IF(ISBLANK($B11),\"\",IF(ISBLANK(C11),0,IF(C11<11,LOOKUP(C11,bodovani!$A$2:$B$11),0)))","v":6},104.22,9.6014302239983067,5,{"$f":"IF(ISBLANK($B11),\"\",IF(ISBLANK(G11),0,IF(G11<11,LOOKUP(G11,bodovani!$A$2:$B$11),0)))","v":6},101.15,5.4634553226983797,5,{"$f":"IF(ISBLANK($B11),\"\",IF(ISBLANK(K11),0,IF(K11<11,LOOKUP(K11,bodovani!$A$2:$B$11),0)))","v":6},109.84,8.806339772164435,null,{"$f":"IF(ISBLANK($B11),\"\",IF(ISBLANK(O11),0,IF(O11<11,LOOKUP(O11,bodovani!$A$2:$B$11),0)))","v":0},null,"0",null,18,1,14.269795094862815,5,null,null,null,null,null,null,null,17,2,2]
[6,"Sehnal - Hradilek",6,{"$f":"IF(ISBLANK($B12),\"\",IF(ISBLANK(C12),0,IF(C12<11,LOOKUP(C12,bodovani!$A$2:$B$11),0)))","v":5},104.82,10.232411399726558,7,{"$f":"IF(ISBLANK($B12),\"\",IF(ISBLANK(G12),0,IF(G12<11,LOOKUP(G12,bodovani!$A$2:$B$11),0)))","v":4},105.38,9.873840058388069,4,{"$f":"IF(ISBLANK($B12),\"\",IF(ISBLANK(K12),0,IF(K12<11,LOOKUP(K12,bodovani!$A$2:$B$11),0)))","v":7},108,6.9836552748885481,null,{"$f":"IF(ISBLANK($B12),\"\",IF(ISBLANK(O12),0,IF(O12<11,LOOKUP(O12,bodovani!$A$2:$B$11),0)))","v":0},null,"0",null,16,null,16.857495333276617,6,null,null,null,null,null,null,null,14,8,6]
[7,"Jiras - Pollert",9,{"$f":"IF(ISBLANK($B13),\"\",IF(ISBLANK(C13),0,IF(C13<11,LOOKUP(C13,bodovani!$A$2:$B$11),0)))","v":2},999,950.58365758754849,6,{"$f":"IF(ISBLANK($B13),\"\",IF(ISBLANK(G13),0,IF(G13<11,LOOKUP(G13,bodovani!$A$2:$B$11),0)))","v":5},102.43,6.7980398290063704,6,{"$f":"IF(ISBLANK($B13),\"\",IF(ISBLANK(K13),0,IF(K13<11,LOOKUP(K13,bodovani!$A$2:$B$11),0)))","v":5},113.09,12.025755324418029,null,{"$f":"IF(ISBLANK($B13),\"\",IF(ISBLANK(O13),0,IF(O13<11,LOOKUP(O13,bodovani!$A$2:$B$11),0)))","v":0},null,"0",null,12,null,18.823795153424385,7,null,null,null,null,null,null,null,10,10,9]
[8,"Gotvald - Fusek- 23 ",7,{"$f":"IF(ISBLANK($B14),\"\",IF(ISBLANK(C14),0,IF(C14<11,LOOKUP(C14,bodovani!$A$2:$B$11),0)))","v":4},115.13,21.07477126932379,11,{"$f":"IF(ISBLANK($B14),\"\",IF(ISBLANK(G14),0,IF(G14<11,LOOKUP(G14,bodovani!$A$2:$B$11),0)))","v":0},118.82,23.886977374622035,8,{"$f":"IF(ISBLANK($B14),\"\",IF(ISBLANK(K14),0,IF(K14<11,LOOKUP(K14,bodovani!$A$2:$B$11),0)))","v":3},125.72,24.536899455175814,null,{"$f":"IF(ISBLANK($B14),\"\",IF(ISBLANK(O14),0,IF(O14<11,LOOKUP(O14,bodovani!$A$2:$B$11),0)))","v":0},null,"0",null,7,null,44.961748643945825,8,null,null,null,null,null,null,null,9,6,7]
[9,"Medřický-Macásek -23",8,{"$f":"IF(ISBLANK($B15),\"\",IF(ISBLANK(C15),0,IF(C15<11,LOOKUP(C15,bodovani!$A$2:$B$11),0)))","v":3},117.77,23.851088442528123,8,{"$f":"IF(ISBLANK($B15),\"\",IF(ISBLANK(G15),0,IF(G15<11,LOOKUP(G15,bodovani!$A$2:$B$11),0)))","v":3},113.52,18.360963403190496,null,{"$f":"IF(ISBLANK($B15),\"\",IF(ISBLANK(K15),0,IF(K15<11,LOOKUP(K15,bodovani!$A$2:$B$11),0)))","v":0},null,999,null,{"$f":"IF(ISBLANK($B15),\"\",IF(ISBLANK(O15),0,IF(O15<11,LOOKUP(O15,bodovani!$A$2:$B$11),0)))","v":0},null,"0",null,6,null,42.212051845718634,9,null,null,null,null,null,null,null,7,11,10]
[10,"Pospíchal- Čepek - 23",11,{"$f":"IF(ISBLANK($B16),\"\",IF(ISBLANK(C16),0,IF(C16<11,LOOKUP(C16,bodovani!$A$2:$B$11),0)))","v":0},117.85,23.935219265958551,9,{"$f":"IF(ISBLANK($B16),\"\",IF(ISBLANK(G16),0,IF(G16<11,LOOKUP(G16,bodovani!$A$2:$B$11),0)))","v":2},122.61,27.838598686268384,null,{"$f":"IF(ISBLANK($B16),\"\",IF(ISBLANK(K16),0,IF(K16<11,LOOKUP(K16,bodovani!$A$2:$B$11),0)))","v":0},null,999,null,{"$f":"IF(ISBLANK($B16),\"\",IF(ISBLANK(O16),0,IF(O16<11,LOOKUP(O16,bodovani!$A$2:$B$11),0)))","v":0},null,"0",null,2,2,51.773817952226864,10,null,null,null,null,null,null,null,7,3,1999]
[11,"Franěk - Zátopek - 23",null,{"$f":"IF(ISBLANK($B17),\"\",IF(ISBLANK(C17),0,IF(C17<11,LOOKUP(C17,bodovani!$A$2:$B$11),0)))","v":0},null,999,null,{"$f":"IF(ISBLANK($B17),\"\",IF(ISBLANK(G17),0,IF(G17<11,LOOKUP(G17,bodovani!$A$2:$B$11),0)))","v":0},null,999,9,{"$f":"IF(ISBLANK($B17),\"\",IF(ISBLANK(K17),0,IF(K17<11,LOOKUP(K17,bodovani!$A$2:$B$11),0)))","v":2},177.12,75.453194650817238,null,{"$f":"IF(ISBLANK($B17),\"\",IF(ISBLANK(O17),0,IF(O17<11,LOOKUP(O17,bodovani!$A$2:$B$11),0)))","v":0},null,"0",null,2,1,1074.4531946508173,11,null,null,null,null,null,null,null,2,5,0]
[12,"Šupolík - Šeba - 23",13,{"$f":"IF(ISBLANK($B18),\"\",IF(ISBLANK(C18),0,IF(C18<11,LOOKUP(C18,bodovani!$A$2:$B$11),0)))","v":0},118.81,24.944789147123771,10,{"$f":"IF(ISBLANK($B18),\"\",IF(ISBLANK(G18),0,IF(G18<11,LOOKUP(G18,bodovani!$A$2:$B$11),0)))","v":1},116.76,21.739130434782624,null,{"$f":"IF(ISBLANK($B18),\"\",IF(ISBLANK(K18),0,IF(K18<11,LOOKUP(K18,bodovani!$A$2:$B$11),0)))","v":0},null,999,null,{"$f":"IF(ISBLANK($B18),\"\",IF(ISBLANK(O18),0,IF(O18<11,LOOKUP(O18,bodovani!$A$2:$B$11),0)))","v":0},null,"0",null,1,1,46.683919581906366,12,null,null,null,null,null,null,null,0,14,0]
[16,"Vetrovský-Matějka - 23",10,{"$f":"IF(ISBLANK($B19),\"\",IF(ISBLANK(C19),0,IF(C19<11,LOOKUP(C19,bodovani!$A$2:$B$11),0)))","v":1},114.97,20.90650962246292,13,{"$f":"IF(ISBLANK($B19),\"\",IF(ISBLANK(G19),0,IF(G19<11,LOOKUP(G19,bodovani!$A$2:$B$11),0)))","v":0},120.7,25.847148368261927,null,{"$f":"IF(ISBLANK($B19),\"\",IF(ISBLANK(K19),0,IF(K19<11,LOOKUP(K19,bodovani!$A$2:$B$11),0)))","v":0},null,999,null,{"$f":"IF(ISBLANK($B19),\"\",IF(ISBLANK(O19),0,IF(O19<11,LOOKUP(O19,bodovani!$A$2:$B$11),0)))","v":0},null,"0",null,1,1,46.753657990724832,13,null,null,null,null,null,null,null,4,33,1999]
[17,19,null,{"$f":"IF(ISBLANK($B20),\"\",IF(ISBLANK(C20),0,IF(C20<11,LOOKUP(C20,bodovani!$A$2:$B$11),0)))","v":0},null,999,null,{"$f":"IF(ISBLANK($B20),\"\",IF(ISBLANK(G20),0,IF(G20<11,LOOKUP(G20,bodovani!$A$2:$B$11),0)))","v":0},null,999,null,{"$f":"IF(ISBLANK($B20),\"\",IF(ISBLANK(K20),0,IF(K20<11,LOOKUP(K20,bodovani!$A$2:$B$11),0)))","v":0},null,999,null,{"$f":"IF(ISBLANK($B20),\"\",IF(ISBLANK(O20),0,IF(O20<11,LOOKUP(O20,bodovani!$A$2:$B$11),0)))","v":0},null,"0",null,0,0,1998,14,null,null,null,null,null,null,null,4,27,0]
[18,18,null,{"$f":"IF(ISBLANK($B21),\"\",IF(ISBLANK(C21),0,IF(C21<11,LOOKUP(C21,bodovani!$A$2:$B$11),0)))","v":0},null,999,null,{"$f":"IF(ISBLANK($B21),\"\",IF(ISBLANK(G21),0,IF(G21<11,LOOKUP(G21,bodovani!$A$2:$B$11),0)))","v":0},null,999,null,{"$f":"IF(ISBLANK($B21),\"\",IF(ISBLANK(K21),0,IF(K21<11,LOOKUP(K21,bodovani!$A$2:$B$11),0)))","v":0},null,999,null,{"$f":"IF(ISBLANK($B21),\"\",IF(ISBLANK(O21),0,IF(O21<11,LOOKUP(O21,bodovani!$A$2:$B$11),0)))","v":0},null,"0",null,0,0,1998,15,null,null,null,null,null,null,null,3,26,29]
[19,17,null,{"$f":"IF(ISBLANK($B22),\"\",IF(ISBLANK(C22),0,IF(C22<11,LOOKUP(C22,bodovani!$A$2:$B$11),0)))","v":0},null,999,null,{"$f":"IF(ISBLANK($B22),\"\",IF(ISBLANK(G22),0,IF(G22<11,LOOKUP(G22,bodovani!$A$2:$B$11),0)))","v":0},null,999,null,{"$f":"IF(ISBLANK($B22),\"\",IF(ISBLANK(K22),0,IF(K22<11,LOOKUP(K22,bodovani!$A$2:$B$11),0)))","v":0},null,999,null,{"$f":"IF(ISBLANK($B22),\"\",IF(ISBLANK(O22),0,IF(O22<11,LOOKUP(O22,bodovani!$A$2:$B$11),0)))","v":0},null,"0",null,0,0,1998,16,null,null,null,null,null,null,null,3,20,1999]
[20,20,null,{"$f":"IF(ISBLANK($B23),\"\",IF(ISBLANK(C23),0,IF(C23<11,LOOKUP(C23,bodovani!$A$2:$B$11),0)))","v":0},null,999,null,{"$f":"IF(ISBLANK($B23),\"\",IF(ISBLANK(G23),0,IF(G23<11,LOOKUP(G23,bodovani!$A$2:$B$11),0)))","v":0},null,999,null,{"$f":"IF(ISBLANK($B23),\"\",IF(ISBLANK(K23),0,IF(K23<11,LOOKUP(K23,bodovani!$A$2:$B$11),0)))","v":0},null,999,null,{"$f":"IF(ISBLANK($B23),\"\",IF(ISBLANK(O23),0,IF(O23<11,LOOKUP(O23,bodovani!$A$2:$B$11),0)))","v":0},null,"0",null,0,null,1998,null,null,null,null,null,null,null,null,2,37,1999]

{"sheet":"K1 muži","index":3,"n_rows":22,"n_cols":33,"rows_kept":22,"cut":false,"hidden":false,"merged":[[4,0,5,0],[53,2,53,5],[40,1,41,1],[23,10,23,13],[4,2,4,5],[53,1,54,1],[23,2,23,5],[23,6,23,9],[53,10,53,13],[23,1,24,1],[53,14,53,17],[53,6,53,9],[40,2,40,5],[40,6,40,9],[40,10,40,13],[40,14,40,17],[23,14,23,17],[0,1,0,21],[4,6,4,9],[4,10,4,13],[4,14,4,17],[4,1,5,1]]}
[null,"Výsledky nominace 2013"]
[]
[]
[null,"K1 muži"]
["ID","Jméno","Trnávka - 1",null,null,null,"Trnávka - 2",null,null,null,"Troja - 1",null,null,null,"Troja - 2",null,null,null,"Plus ","BODY","POMĚR","%","POŘ."]
[null,null,"poř.","body","Výsledek","%","poř.","body","výsledek","%","poř.","body","výsledek","%","poř.","body","výsledek","%","Body","CELKEM","VÍTĚZSTVÍ","CELKEM","CELKEM"]
[1,"PŘINDIŠ V. ",2,{"$f":"IF(ISBLANK($B7),\"\",IF(ISBLANK(C7),0,IF(C7<11,LOOKUP(C7,bodovani!$A$2:$B$11),0)))","v":9},87.78,{"$f":"IF(SUM(E$7:E$22)>0,IF(ISNUMBER(E7),E7/(MIN(E$7:E$22)/100)-100,999),\"0\")","v":0.27416038382453678},2,{"$f":"IF(ISBLANK($B7),\"\",IF(ISBLANK(G7),0,IF(G7<11,LOOKUP(G7,bodovani!$A$2:$B$11),0)))","v":9},89.19,{"$f":"IF(SUM(I$7:I$22)>0,IF(ISNUMBER(I7),I7/(MIN(I$7:I$22)/100)-100,999),\"0\")","v":4.0966386554621721},5,{"$f":"IF(ISBLANK($B7),\"\",IF(ISBLANK(K7),0,IF(K7<11,LOOKUP(K7,bodovani!$A$2:$B$11),0)))","v":6},88.61,{"$f":"IF(SUM(M$7:M$22)>0,IF(ISNUMBER(M7),M7/(MIN(M$7:M$22)/100)-100,999),\"0\")","v":4.3698468786807894},null,{"$f":"IF(ISBLANK($B7),\"\",IF(ISBLANK(O7),0,IF(O7<11,LOOKUP(O7,bodovani!$A$2:$B$11),0)))","v":0},null,{"$f":"IF(SUM(Q$7:Q$22)>0,IF(ISNUMBER(Q7),Q7/(MIN(Q$7:Q$22)/100)-100,999),\"0\")","v":"0"},null,{"$f":"(D7+H7+L7+P7)-MIN(D7,H7,L7,P7)+S7","v":24},1,{"$f":"(F7+J7+N7+R7)-MAX(F7,J7,N7,R7)","v":4.3707990392867089},2,null,null,null,null,null,null,null,25,10,1]
[2,"VONDRA ",5,{"$f":"IF(ISBLANK($B8),\"\",IF(ISBLANK(C8),0,IF(C8<11,LOOKUP(C8,bodovani!$A$2:$B$11),0)))","v":6},88.48,{"$f":"IF(SUM(E$7:E$22)>0,IF(ISNUMBER(E8),E8/(MIN(E$7:E$22)/100)-100,999),\"0\")","v":1.0737948366461012},1,{"$f":"IF(ISBLANK($B8),\"\",IF(ISBLANK(G8),0,IF(G8<11,LOOKUP(G8,bodovani!$A$2:$B$11),0)))","v":11},85.68,{"$f":"IF(SUM(I$7:I$22)>0,IF(ISNUMBER(I8),I8/(MIN(I$7:I$22)/100)-100,999),\"0\")","v":0},4,{"$f":"IF(ISBLANK($B8),\"\",IF(ISBLANK(K8),0,IF(K8<11,LOOKUP(K8,bodovani!$A$2:$B$11),0)))","v":7},87.73,{"$f":"IF(SUM(M$7:M$22)>0,IF(ISNUMBER(M8),M8/(MIN(M$7:M$22)/100)-100,999),\"0\")","v":3.3333333333333286},null,{"$f":"IF(ISBLANK($B8),\"\",IF(ISBLANK(O8),0,IF(O8<11,LOOKUP(O8,bodovani!$A$2:$B$11),0)))","v":0},null,{"$f":"IF(SUM(Q$7:Q$22)>0,IF(ISNUMBER(Q8),Q8/(MIN(Q$7:Q$22)/100)-100,999),\"0\")","v":"0"},null,24,2,1.0737948366461012,1,null,null,null,null,null,null,null,19,7,8]
[5,"PRSKAVEC - 23",3,{"$f":"IF(ISBLANK($B9),\"\",IF(ISBLANK(C9),0,IF(C9<11,LOOKUP(C9,bodovani!$A$2:$B$11),0)))","v":8},88,{"$f":"IF(SUM(E$7:E$22)>0,IF(ISNUMBER(E9),E9/(MIN(E$7:E$22)/100)-100,999),\"0\")","v":0.52547406899702764},10,{"$f":"IF(ISBLANK($B9),\"\",IF(ISBLANK(G9),0,IF(G9<11,LOOKUP(G9,bodovani!$A$2:$B$11),0)))","v":1},86.64,{"$f":"IF(SUM(I$7:I$22)>0,IF(ISNUMBER(I9),I9/(MIN(I$7:I$22)/100)-100,999),\"0\")","v":1.1204481792716905},1,{"$f":"IF(ISBLANK($B9),\"\",IF(ISBLANK(K9),0,IF(K9<11,LOOKUP(K9,bodovani!$A$2:$B$11),0)))","v":11},84.9,{"$f":"IF(SUM(M$7:M$22)>0,IF(ISNUMBER(M9),M9/(MIN(M$7:M$22)/100)-100,999),\"0\")","v":0},null,{"$f":"IF(ISBLANK($B9),\"\",IF(ISBLANK(O9),0,IF(O9<11,LOOKUP(O9,bodovani!$A$2:$B$11),0)))","v":0},null,{"$f":"IF(SUM(Q$7:Q$22)>0,IF(ISNUMBER(Q9),Q9/(MIN(Q$7:Q$22)/100)-100,999),\"0\")","v":"0"},null,{"$f":"(D9+H9+L9+P9)-MIN(D9,H9,L9,P9)+S9","v":20},null,{"$f":"(F9+J9+N9+R9)-MAX(F9,J9,N9,R9)","v":0.52547406899702764},3,null,null,null,null,null,null,null,14,3,1999]
[3,"HILGERT ",1,{"$f":"IF(ISBLANK($B10),\"\",IF(ISBLANK(C10),0,IF(C10<11,LOOKUP(C10,bodovani!$A$2:$B$11),0)))","v":11},87.54,{"$f":"IF(SUM(E$7:E$22)>0,IF(ISNUMBER(E10),E10/(MIN(E$7:E$22)/100)-100,999),\"0\")","v":0},5,{"$f":"IF(ISBLANK($B10),\"\",IF(ISBLANK(G10),0,IF(G10<11,LOOKUP(G10,bodovani!$A$2:$B$11),0)))","v":6},91.19,{"$f":"IF(SUM(I$7:I$22)>0,IF(ISNUMBER(I10),I10/(MIN(I$7:I$22)/100)-100,999),\"0\")","v":6.4309056956115569},null,{"$f":"IF(ISBLANK($B10),\"\",IF(ISBLANK(K10),0,IF(K10<11,LOOKUP(K10,bodovani!$A$2:$B$11),0)))","v":0},null,{"$f":"IF(SUM(M$7:M$22)>0,IF(ISNUMBER(M10),M10/(MIN(M$7:M$22)/100)-100,999),\"0\")","v":999},null,{"$f":"IF(ISBLANK($B10),\"\",IF(ISBLANK(O10),0,IF(O10<11,LOOKUP(O10,bodovani!$A$2:$B$11),0)))","v":0},null,{"$f":"IF(SUM(Q$7:Q$22)>0,IF(ISNUMBER(Q10),Q10/(MIN(Q$7:Q$22)/100)-100,999),\"0\")","v":"0"},null,17,null,6.4309056956115001,4,null,null,null,null,null,null,null,17,9,5]
[4,"TUNKA - 23",7,{"$f":"IF(ISBLANK($B11),\"\",IF(ISBLANK(C11),0,IF(C11<11,LOOKUP(C11,bodovani!$A$2:$B$11),0)))","v":4},92.66,{"$f":"IF(SUM(E$7:E$22)>0,IF(ISNUMBER(E11),E11/(MIN(E$7:E$22)/100)-100,999),\"0\")","v":5.848754854923456},3,{"$f":"IF(ISBLANK($B11),\"\",IF(ISBLANK(G11),0,IF(G11<11,LOOKUP(G11,bodovani!$A$2:$B$11),0)))","v":8},89.65,{"$f":"IF(SUM(I$7:I$22)>0,IF(ISNUMBER(I11),I11/(MIN(I$7:I$22)/100)-100,999),\"0\")","v":4.6335200746965342},null,{"$f":"IF(ISBLANK($B11),\"\",IF(ISBLANK(K11),0,IF(K11<11,LOOKUP(K11,bodovani!$A$2:$B$11),0)))","v":0},null,{"$f":"IF(SUM(M$7:M$22)>0,IF(ISNUMBER(M11),M11/(MIN(M$7:M$22)/100)-100,999),\"0\")","v":999},null,{"$f":"IF(ISBLANK($B11),\"\",IF(ISBLANK(O11),0,IF(O11<11,LOOKUP(O11,bodovani!$A$2:$B$11),0)))","v":0},null,{"$f":"IF(SUM(Q$7:Q$22)>0,IF(ISNUMBER(Q11),Q11/(MIN(Q$7:Q$22)/100)-100,999),\"0\")","v":"0"},null,12,1,10.482274929619962,8,null,null,null,null,null,null,null,14,13,11]
[6,"PIŠVEJC I.",4,{"$f":"IF(ISBLANK($B12),\"\",IF(ISBLANK(C12),0,IF(C12<11,LOOKUP(C12,bodovani!$A$2:$B$11),0)))","v":7},88.18,{"$f":"IF(SUM(E$7:E$22)>0,IF(ISNUMBER(E12),E12/(MIN(E$7:E$22)/100)-100,999),\"0\")","v":0.73109435686542668},14,{"$f":"IF(ISBLANK($B12),\"\",IF(ISBLANK(G12),0,IF(G12<11,LOOKUP(G12,bodovani!$A$2:$B$11),0)))","v":0},94.98,{"$f":"IF(SUM(I$7:I$22)>0,IF(ISNUMBER(I12),I12/(MIN(I$7:I$22)/100)-100,999),\"0\")","v":10.854341736694664},6,{"$f":"IF(ISBLANK($B12),\"\",IF(ISBLANK(K12),0,IF(K12<11,LOOKUP(K12,bodovani!$A$2:$B$11),0)))","v":5},89.05,{"$f":"IF(SUM(M$7:M$22)>0,IF(ISNUMBER(M12),M12/(MIN(M$7:M$22)/100)-100,999),\"0\")","v":4.8881036513545268},null,{"$f":"IF(ISBLANK($B12),\"\",IF(ISBLANK(O12),0,IF(O12<11,LOOKUP(O12,bodovani!$A$2:$B$11),0)))","v":0},null,{"$f":"IF(SUM(Q$7:Q$22)>0,IF(ISNUMBER(Q12),Q12/(MIN(Q$7:Q$22)/100)-100,999),\"0\")","v":"0"},null,12,2,5.6191980082199535,7,null,null,null,null,null,null,null,11,11,6]
[7,"ORNST - 23",16,{"$f":"IF(ISBLANK($B13),\"\",IF(ISBLANK(C13),0,IF(C13<11,LOOKUP(C13,bodovani!$A$2:$B$11),0)))","v":0},95.75,{"$f":"IF(SUM(E$7:E$22)>0,IF(ISNUMBER(E13),E13/(MIN(E$7:E$22)/100)-100,999),\"0\")","v":9.3785697966643795},4,{"$f":"IF(ISBLANK($B13),\"\",IF(ISBLANK(G13),0,IF(G13<11,LOOKUP(G13,bodovani!$A$2:$B$11),0)))","v":7},89.94,{"$f":"IF(SUM(I$7:I$22)>0,IF(ISNUMBER(I13),I13/(MIN(I$7:I$22)/100)-100,999),\"0\")","v":4.9719887955181861},8,{"$f":"IF(ISBLANK($B13),\"\",IF(ISBLANK(K13),0,IF(K13<11,LOOKUP(K13,bodovani!$A$2:$B$11),0)))","v":3},91.05,{"$f":"IF(SUM(M$7:M$22)>0,IF(ISNUMBER(M13),M13/(MIN(M$7:M$22)/100)-100,999),\"0\")","v":7.2438162544169415},null,{"$f":"IF(ISBLANK($B13),\"\",IF(ISBLANK(O13),0,IF(O13<11,LOOKUP(O13,bodovani!$A$2:$B$11),0)))","v":0},null,{"$f":"IF(SUM(Q$7:Q$22)>0,IF(ISNUMBER(Q13),Q13/(MIN(Q$7:Q$22)/100)-100,999),\"0\")","v":"0"},null,10,1,12.215805049935128,10,null,null,null,null,null,null,null,11,5,1999]
[8,"BUCHTEL M. ",8,{"$f":"IF(ISBLANK($B14),\"\",IF(ISBLANK(C14),0,IF(C14<11,LOOKUP(C14,bodovani!$A$2:$B$11),0)))","v":3},92.9,{"$f":"IF(SUM(E$7:E$22)>0,IF(ISNUMBER(E14),E14/(MIN(E$7:E$22)/100)-100,999),\"0\")","v":6.1229152387479928},7,{"$f":"IF(ISBLANK($B14),\"\",IF(ISBLANK(G14),0,IF(G14<11,LOOKUP(G14,bodovani!$A$2:$B$11),0)))","v":4},96.22,{"$f":"IF(SUM(I$7:I$22)>0,IF(ISNUMBER(I14),I14/(MIN(I$7:I$22)/100)-100,999),\"0\")","v":12.30158730158729},2,{"$f":"IF(ISBLANK($B14),\"\",IF(ISBLANK(K14),0,IF(K14<11,LOOKUP(K14,bodovani!$A$2:$B$11),0)))","v":9},86.12,{"$f":"IF(SUM(M$7:M$22)>0,IF(ISNUMBER(M14),M14/(MIN(M$7:M$22)/100)-100,999),\"0\")","v":1.4369846878680761},null,{"$f":"IF(ISBLANK($B14),\"\",IF(ISBLANK(O14),0,IF(O14<11,LOOKUP(O14,bodovani!$A$2:$B$11),0)))","v":0},null,{"$f":"IF(SUM(Q$7:Q$22)>0,IF(ISNUMBER(Q14),Q14/(MIN(Q$7:Q$22)/100)-100,999),\"0\")","v":"0"},null,16,null,7.5598999266160689,5,null,null,null,null,null,null,null,11,2,12]
[9,"CVIKL - 23",10,{"$f":"IF(ISBLANK($B15),\"\",IF(ISBLANK(C15),0,IF(C15<11,LOOKUP(C15,bodovani!$A$2:$B$11),0)))","v":1},89.85,{"$f":"IF(SUM(E$7:E$22)>0,IF(ISNUMBER(E15),E15/(MIN(E$7:E$22)/100)-100,999),\"0\")","v":2.6387936943111612},6,{"$f":"IF(ISBLANK($B15),\"\",IF(ISBLANK(G15),0,IF(G15<11,LOOKUP(G15,bodovani!$A$2:$B$11),0)))","v":5},92.16,{"$f":"IF(SUM(I$7:I$22)>0,IF(ISNUMBER(I15),I15/(MIN(I$7:I$22)/100)-100,999),\"0\")","v":7.563025210084021},7,{"$f":"IF(ISBLANK($B15),\"\",IF(ISBLANK(K15),0,IF(K15<11,LOOKUP(K15,bodovani!$A$2:$B$11),0)))","v":4},90.04,{"$f":"IF(SUM(M$7:M$22)>0,IF(ISNUMBER(M15),M15/(MIN(M$7:M$22)/100)-100,999),\"0\")","v":6.0541813898704362},null,{"$f":"IF(ISBLANK($B15),\"\",IF(ISBLANK(O15),0,IF(O15<11,LOOKUP(O15,bodovani!$A$2:$B$11),0)))","v":0},null,{"$f":"IF(SUM(Q$7:Q$22)>0,IF(ISNUMBER(Q15),Q15/(MIN(Q$7:Q$22)/100)-100,999),\"0\")","v":"0"},null,10,2,8.6929750841815974,9,null,null,null,null,null,null,null,6,12,10]
[10,"KUBRIČAN L. ",6,{"$f":"IF(ISBLANK($B16),\"\",IF(ISBLANK(C16),0,IF(C16<11,LOOKUP(C16,bodovani!$A$2:$B$11),0)))","v":5},89.24,{"$f":"IF(SUM(E$7:E$22)>0,IF(ISNUMBER(E16),E16/(MIN(E$7:E$22)/100)-100,999),\"0\")","v":1.9419693854237892},12,{"$f":"IF(ISBLANK($B16),\"\",IF(ISBLANK(G16),0,IF(G16<11,LOOKUP(G16,bodovani!$A$2:$B$11),0)))","v":0},91.53,{"$f":"IF(SUM(I$7:I$22)>0,IF(ISNUMBER(I16),I16/(MIN(I$7:I$22)/100)-100,999),\"0\")","v":6.827731092436963},3,{"$f":"IF(ISBLANK($B16),\"\",IF(ISBLANK(K16),0,IF(K16<11,LOOKUP(K16,bodovani!$A$2:$B$11),0)))","v":8},87.42,{"$f":"IF(SUM(M$7:M$22)>0,IF(ISNUMBER(M16),M16/(MIN(M$7:M$22)/100)-100,999),\"0\")","v":2.9681978798586499},null,{"$f":"IF(ISBLANK($B16),\"\",IF(ISBLANK(O16),0,IF(O16<11,LOOKUP(O16,bodovani!$A$2:$B$11),0)))","v":0},null,{"$f":"IF(SUM(Q$7:Q$22)>0,IF(ISNUMBER(Q16),Q16/(MIN(Q$7:Q$22)/100)-100,999),\"0\")","v":"0"},null,13,null,4.9101672652824391,6,null,null,null,null,null,null,null,6,6,1999]
[11,"DUPAL - 23",22,{"$f":"IF(ISBLANK($B17),\"\",IF(ISBLANK(C17),0,IF(C17<11,LOOKUP(C17,bodovani!$A$2:$B$11),0)))","v":0},97.73,{"$f":"IF(SUM(E$7:E$22)>0,IF(ISNUMBER(E17),E17/(MIN(E$7:E$22)/100)-100,999),\"0\")","v":11.640392963216811},8,{"$f":"IF(ISBLANK($B17),\"\",IF(ISBLANK(G17),0,IF(G17<11,LOOKUP(G17,bodovani!$A$2:$B$11),0)))","v":3},96.84,{"$f":"IF(SUM(I$7:I$22)>0,IF(ISNUMBER(I17),I17/(MIN(I$7:I$22)/100)-100,999),\"0\")","v":13.025210084033603},9,{"$f":"IF(ISBLANK($B17),\"\",IF(ISBLANK(K17),0,IF(K17<11,LOOKUP(K17,bodovani!$A$2:$B$11),0)))","v":2},96.4,{"$f":"IF(SUM(M$7:M$22)>0,IF(ISNUMBER(M17),M17/(MIN(M$7:M$22)/100)-100,999),\"0\")","v":13.545347467608948},null,{"$f":"IF(ISBLANK($B17),\"\",IF(ISBLANK(O17),0,IF(O17<11,LOOKUP(O17,bodovani!$A$2:$B$11),0)))","v":0},null,{"$f":"IF(SUM(Q$7:Q$22)>0,IF(ISNUMBER(Q17),Q17/(MIN(Q$7:Q$22)/100)-100,999),\"0\")","v":"0"},null,5,null,24.665603047250414,11,null,null,null,null,null,null,null,5,8,9]
[12,"ZAJÍC - 23",9,{"$f":"IF(ISBLANK($B18),\"\",IF(ISBLANK(C18),0,IF(C18<11,LOOKUP(C18,bodovani!$A$2:$B$11),0)))","v":2},96.09,{"$f":"IF(SUM(E$7:E$22)>0,IF(ISNUMBER(E18),E18/(MIN(E$7:E$22)/100)-100,999),\"0\")","v":9.7669636737491317},16,{"$f":"IF(ISBLANK($B18),\"\",IF(ISBLANK(G18),0,IF(G18<11,LOOKUP(G18,bodovani!$A$2:$B$11),0)))","v":0},95.82,{"$f":"IF(SUM(I$7:I$22)>0,IF(ISNUMBER(I18),I18/(MIN(I$7:I$22)/100)-100,999),\"0\")","v":11.834733893557399},null,{"$f":"IF(ISBLANK($B18),\"\",IF(ISBLANK(K18),0,IF(K18<11,LOOKUP(K18,bodovani!$A$2:$B$11),0)))","v":0},null,{"$f":"IF(SUM(M$7:M$22)>0,IF(ISNUMBER(M18),M18/(MIN(M$7:M$22)/100)-100,999),\"0\")","v":999},null,{"$f":"IF(ISBLANK($B18),\"\",IF(ISBLANK(O18),0,IF(O18<11,LOOKUP(O18,bodovani!$A$2:$B$11),0)))","v":0},null,{"$f":"IF(SUM(Q$7:Q$22)>0,IF(ISNUMBER(Q18),Q18/(MIN(Q$7:Q$22)/100)-100,999),\"0\")","v":"0"},null,2,1,21.601697567306474,12,null,null,null,null,null,null,null,4,1,13]
[13,"HOŠEK - 23",21,{"$f":"IF(ISBLANK($B19),\"\",IF(ISBLANK(C19),0,IF(C19<11,LOOKUP(C19,bodovani!$A$2:$B$11),0)))","v":0},97.61,{"$f":"IF(SUM(E$7:E$22)>0,IF(ISNUMBER(E19),E19/(MIN(E$7:E$22)/100)-100,999),\"0\")","v":11.503312771304536},9,{"$f":"IF(ISBLANK($B19),\"\",IF(ISBLANK(G19),0,IF(G19<11,LOOKUP(G19,bodovani!$A$2:$B$11),0)))","v":2},98.05,{"$f":"IF(SUM(I$7:I$22)>0,IF(ISNUMBER(I19),I19/(MIN(I$7:I$22)/100)-100,999),\"0\")","v":14.437441643323979},null,{"$f":"IF(ISBLANK($B19),\"\",IF(ISBLANK(K19),0,IF(K19<11,LOOKUP(K19,bodovani!$A$2:$B$11),0)))","v":0},null,{"$f":"IF(SUM(M$7:M$22)>0,IF(ISNUMBER(M19),M19/(MIN(M$7:M$22)/100)-100,999),\"0\")","v":999},null,{"$f":"IF(ISBLANK($B19),\"\",IF(ISBLANK(O19),0,IF(O19<11,LOOKUP(O19,bodovani!$A$2:$B$11),0)))","v":0},null,{"$f":"IF(SUM(Q$7:Q$22)>0,IF(ISNUMBER(Q19),Q19/(MIN(Q$7:Q$22)/100)-100,999),\"0\")","v":"0"},null,2,1,25.9407544146286,13,null,null,null,null,null,null,null,3,4,7]
[18,18,null,{"$f":"IF(ISBLANK($B20),\"\",IF(ISBLANK(C20),0,IF(C20<11,LOOKUP(C20,bodovani!$A$2:$B$11),0)))","v":0},null,{"$f":"IF(SUM(E$7:E$22)>0,IF(ISNUMBER(E20),E20/(MIN(E$7:E$22)/100)-100,999),\"0\")","v":999},null,{"$f":"IF(ISBLANK($B20),\"\",IF(ISBLANK(G20),0,IF(G20<11,LOOKUP(G20,bodovani!$A$2:$B$11),0)))","v":0},null,{"$f":"IF(SUM(I$7:I$22)>0,IF(ISNUMBER(I20),I20/(MIN(I$7:I$22)/100)-100,999),\"0\")","v":999},null,{"$f":"IF(ISBLANK($B20),\"\",IF(ISBLANK(K20),0,IF(K20<11,LOOKUP(K20,bodovani!$A$2:$B$11),0)))","v":0},null,{"$f":"IF(SUM(M$7:M$22)>0,IF(ISNUMBER(M20),M20/(MIN(M$7:M$22)/100)-100,999),\"0\")","v":999},null,{"$f":"IF(ISBLANK($B20),\"\",IF(ISBLANK(O20),0,IF(O20<11,LOOKUP(O20,bodovani!$A$2:$B$11),0)))","v":0},null,{"$f":"IF(SUM(Q$7:Q$22)>0,IF(ISNUMBER(Q20),Q20/(MIN(Q$7:Q$22)/100)-100,999),\"0\")","v":"0"},null,0,null,1998,null,null,null,null,null,null,null,null,3,26,29]
[19,19,null,{"$f":"IF(ISBLANK($B21),\"\",IF(ISBLANK(C21),0,IF(C21<11,LOOKUP(C21,bodovani!$A$2:$B$11),0)))","v":0},null,{"$f":"IF(SUM(E$7:E$22)>0,IF(ISNUMBER(E21),E21/(MIN(E$7:E$22)/100)-100,999),\"0\")","v":999},null,{"$f":"IF(ISBLANK($B21),\"\",IF(ISBLANK(G21),0,IF(G21<11,LOOKUP(G21,bodovani!$A$2:$B$11),0)))","v":0},null,{"$f":"IF(SUM(I$7:I$22)>0,IF(ISNUMBER(I21),I21/(MIN(I$7:I$22)/100)-100,999),\"0\")","v":999},null,{"$f":"IF(ISBLANK($B21),\"\",IF(ISBLANK(K21),0,IF(K21<11,LOOKUP(K21,bodovani!$A$2:$B$11),0)))","v":0},null,{"$f":"IF(SUM(M$7:M$22)>0,IF(ISNUMBER(M21),M21/(MIN(M$7:M$22)/100)-100,999),\"0\")","v":999},null,{"$f":"IF(ISBLANK($B21),\"\",IF(ISBLANK(O21),0,IF(O21<11,LOOKUP(O21,bodovani!$A$2:$B$11),0)))","v":0},null,{"$f":"IF(SUM(Q$7:Q$22)>0,IF(ISNUMBER(Q21),Q21/(MIN(Q$7:Q$22)/100)-100,999),\"0\")","v":"0"},null,0,null,1998,null,null,null,null,null,null,null,null,3,20,1999]
[20,20,null,{"$f":"IF(ISBLANK($B22),\"\",IF(ISBLANK(C22),0,IF(C22<11,LOOKUP(C22,bodovani!$A$2:$B$11),0)))","v":0},null,{"$f":"IF(SUM(E$7:E$22)>0,IF(ISNUMBER(E22),E22/(MIN(E$7:E$22)/100)-100,999),\"0\")","v":999},null,{"$f":"IF(ISBLANK($B22),\"\",IF(ISBLANK(G22),0,IF(G22<11,LOOKUP(G22,bodovani!$A$2:$B$11),0)))","v":0},null,{"$f":"IF(SUM(I$7:I$22)>0,IF(ISNUMBER(I22),I22/(MIN(I$7:I$22)/100)-100,999),\"0\")","v":999},null,{"$f":"IF(ISBLANK($B22),\"\",IF(ISBLANK(K22),0,IF(K22<11,LOOKUP(K22,bodovani!$A$2:$B$11),0)))","v":0},null,{"$f":"IF(SUM(M$7:M$22)>0,IF(ISNUMBER(M22),M22/(MIN(M$7:M$22)/100)-100,999),\"0\")","v":999},null,{"$f":"IF(ISBLANK($B22),\"\",IF(ISBLANK(O22),0,IF(O22<11,LOOKUP(O22,bodovani!$A$2:$B$11),0)))","v":0},null,{"$f":"IF(SUM(Q$7:Q$22)>0,IF(ISNUMBER(Q22),Q22/(MIN(Q$7:Q$22)/100)-100,999),\"0\")","v":"0"},null,0,null,1998,null,null,null,null,null,null,null,null,2,37,1999]

{"sheet":"C1 ženy","index":4,"n_rows":26,"n_cols":33,"rows_kept":26,"cut":false,"hidden":false,"merged":[[0,1,0,21],[4,0,5,0],[4,1,5,1],[4,2,4,5],[4,6,4,9],[4,14,4,17],[4,10,4,13],[57,14,57,17],[27,1,28,1],[27,2,27,5],[44,14,44,17],[27,6,27,9],[27,10,27,13],[27,14,27,17],[44,1,45,1],[44,2,44,5],[44,6,44,9],[44,10,44,13],[57,1,58,1],[57,2,57,5],[57,6,57,9],[57,10,57,13]]}
[null,"Výsledky nominace 2013"]
[]
[]
[null,"C1 ženy"]
["ID","Jméno","Trnávka - 1",null,null,null,"Trnávka - 2",null,null,null,"Troja - 1",null,null,null,"Troja - 2",null,null,null,"Plus ","BODY","POMĚR","%","POŘ."]
[null,null,"poř.","body","Výsledek","%","poř.","body","výsledek","%","poř.","body","výsledek","%","poř.","body","výsledek","%","Body","CELKEM","VÍTĚZSTVÍ","CELKEM","CELKEM"]
[1,"HOŠKOVÁ",2,{"$f":"IF(ISBLANK($B7),\"\",IF(ISBLANK(C7),0,IF(C7<11,LOOKUP(C7,bodovani!$A$2:$B$11),0)))","v":9},189.54,{"$f":"IF(SUM(E$7:E$26)>0,IF(ISNUMBER(E7),E7/(MIN(E$7:E$26)/100)-100,999),\"0\")","v":43.73246379009629},1,{"$f":"IF(ISBLANK($B7),\"\",IF(ISBLANK(G7),0,IF(G7<11,LOOKUP(G7,bodovani!$A$2:$B$11),0)))","v":11},114.21,{"$f":"IF(SUM(I$7:I$26)>0,IF(ISNUMBER(I7),I7/(MIN(I$7:I$26)/100)-100,999),\"0\")","v":0},1,{"$f":"IF(ISBLANK($B7),\"\",IF(ISBLANK(K7),0,IF(K7<11,LOOKUP(K7,bodovani!$A$2:$B$11),0)))","v":11},123.53,{"$f":"IF(SUM(M$7:M$26)>0,IF(ISNUMBER(M7),M7/(MIN(M$7:M$26)/100)-100,999),\"0\")","v":0},null,{"$f":"IF(ISBLANK($B7),\"\",IF(ISBLANK(O7),0,IF(O7<11,LOOKUP(O7,bodovani!$A$2:$B$11),0)))","v":0},null,{"$f":"IF(SUM(Q$7:Q$26)>0,IF(ISNUMBER(Q7),Q7/(MIN(Q$7:Q$26)/100)-100,999),\"0\")","v":"0"},null,{"$f":"(D7+H7+L7+P7)-MIN(D7,H7,L7,P7)+S7","v":31},null,{"$f":"(F7+J7+N7+R7)-MAX(F7,J7,N7,R7)","v":0},1,null,null,null,null,null,null,null,25,10,1]
[2,"JANČOVÁ - 23 ",1,{"$f":"IF(ISBLANK($B8),\"\",IF(ISBLANK(C8),0,IF(C8<11,LOOKUP(C8,bodovani!$A$2:$B$11),0)))","v":11},131.87,0,2,{"$f":"IF(ISBLANK($B8),\"\",IF(ISBLANK(G8),0,IF(G8<11,LOOKUP(G8,bodovani!$A$2:$B$11),0)))","v":9},181.91,59.276770860695223,2,{"$f":"IF(ISBLANK($B8),\"\",IF(ISBLANK(K8),0,IF(K8<11,LOOKUP(K8,bodovani!$A$2:$B$11),0)))","v":9},125.87,1.8942766939205029,null,{"$f":"IF(ISBLANK($B8),\"\",IF(ISBLANK(O8),0,IF(O8<11,LOOKUP(O8,bodovani!$A$2:$B$11),0)))","v":0},null,"0",null,29,null,1.8942766939205029,2,null,null,null,null,null,null,null,19,7,8]
[3,"ČEKALOVÁ - 23",3,{"$f":"IF(ISBLANK($B9),\"\",IF(ISBLANK(C9),0,IF(C9<11,LOOKUP(C9,bodovani!$A$2:$B$11),0)))","v":8},205.1,55.531963297186621,5,{"$f":"IF(ISBLANK($B9),\"\",IF(ISBLANK(G9),0,IF(G9<11,LOOKUP(G9,bodovani!$A$2:$B$11),0)))","v":6},232.96,103.97513352596098,7,{"$f":"IF(ISBLANK($B9),\"\",IF(ISBLANK(K9),0,IF(K9<11,LOOKUP(K9,bodovani!$A$2:$B$11),0)))","v":4},154.72999999999999,25.25702258560672,null,{"$f":"IF(ISBLANK($B9),\"\",IF(ISBLANK(O9),0,IF(O9<11,LOOKUP(O9,bodovani!$A$2:$B$11),0)))","v":0},null,"0",null,18,2,80.788985882793327,3,null,null,null,null,null,null,null,17,9,5]
[4,"KOBLENCOVÁ - 23",5,{"$f":"IF(ISBLANK($B10),\"\",IF(ISBLANK(C10),0,IF(C10<11,LOOKUP(C10,bodovani!$A$2:$B$11),0)))","v":6},228.54,73.307044816865101,7,{"$f":"IF(ISBLANK($B10),\"\",IF(ISBLANK(G10),0,IF(G10<11,LOOKUP(G10,bodovani!$A$2:$B$11),0)))","v":4},294.97000000000003,158.26985377812804,3,{"$f":"IF(ISBLANK($B10),\"\",IF(ISBLANK(K10),0,IF(K10<11,LOOKUP(K10,bodovani!$A$2:$B$11),0)))","v":8},135.19999999999999,9.4470978709625086,null,{"$f":"IF(ISBLANK($B10),\"\",IF(ISBLANK(O10),0,IF(O10<11,LOOKUP(O10,bodovani!$A$2:$B$11),0)))","v":0},null,"0",null,18,1,82.754142687827596,4,null,null,null,null,null,null,null,14,13,11]
[5,"MATULKOVÁ - 23",7,{"$f":"IF(ISBLANK($B11),\"\",IF(ISBLANK(C11),0,IF(C11<11,LOOKUP(C11,bodovani!$A$2:$B$11),0)))","v":4},305.64,131.77371653901568,3,{"$f":"IF(ISBLANK($B11),\"\",IF(ISBLANK(G11),0,IF(G11<11,LOOKUP(G11,bodovani!$A$2:$B$11),0)))","v":8},202.89,77.646440767008158,6,{"$f":"IF(ISBLANK($B11),\"\",IF(ISBLANK(K11),0,IF(K11<11,LOOKUP(K11,bodovani!$A$2:$B$11),0)))","v":5},145.61000000000001,17.874200599044769,null,{"$f":"IF(ISBLANK($B11),\"\",IF(ISBLANK(O11),0,IF(O11<11,LOOKUP(O11,bodovani!$A$2:$B$11),0)))","v":0},null,"0",null,17,null,95.520641366052928,5,null,null,null,null,null,null,null,14,3,1999]
[6,"SATKOVÁ - 23",4,{"$f":"IF(ISBLANK($B12),\"\",IF(ISBLANK(C12),0,IF(C12<11,LOOKUP(C12,bodovani!$A$2:$B$11),0)))","v":7},209.01,58.497004625767801,6,{"$f":"IF(ISBLANK($B12),\"\",IF(ISBLANK(G12),0,IF(G12<11,LOOKUP(G12,bodovani!$A$2:$B$11),0)))","v":5},243.34,113.06365467121969,null,{"$f":"IF(ISBLANK($B12),\"\",IF(ISBLANK(K12),0,IF(K12<11,LOOKUP(K12,bodovani!$A$2:$B$11),0)))","v":0},null,999,null,{"$f":"IF(ISBLANK($B12),\"\",IF(ISBLANK(O12),0,IF(O12<11,LOOKUP(O12,bodovani!$A$2:$B$11),0)))","v":0},null,"0",null,12,2,171.56065929698752,6,null,null,null,null,null,null,null,11,11,6]
[7,"KAŠPAROVÁ",6,{"$f":"IF(ISBLANK($B13),\"\",IF(ISBLANK(C13),0,IF(C13<11,LOOKUP(C13,bodovani!$A$2:$B$11),0)))","v":5},239.18,81.375597179039971,null,{"$f":"IF(ISBLANK($B13),\"\",IF(ISBLANK(G13),0,IF(G13<11,LOOKUP(G13,bodovani!$A$2:$B$11),0)))","v":0},null,999,4,{"$f":"IF(ISBLANK($B13),\"\",IF(ISBLANK(K13),0,IF(K13<11,LOOKUP(K13,bodovani!$A$2:$B$11),0)))","v":7},140.38,13.640411236136956,null,{"$f":"IF(ISBLANK($B13),\"\",IF(ISBLANK(O13),0,IF(O13<11,LOOKUP(O13,bodovani!$A$2:$B$11),0)))","v":0},null,"0",null,12,1,95.016008415176884,7,null,null,null,null,null,null,null,11,5,1999]
[8,"FOLTYSOVÁ - 23",9,{"$f":"IF(ISBLANK($B14),\"\",IF(ISBLANK(C14),0,IF(C14<11,LOOKUP(C14,bodovani!$A$2:$B$11),0)))","v":2},999,657.56426783953896,4,{"$f":"IF(ISBLANK($B14),\"\",IF(ISBLANK(G14),0,IF(G14<11,LOOKUP(G14,bodovani!$A$2:$B$11),0)))","v":7},213.45,86.892566325190444,9,{"$f":"IF(ISBLANK($B14),\"\",IF(ISBLANK(K14),0,IF(K14<11,LOOKUP(K14,bodovani!$A$2:$B$11),0)))","v":2},999,708.7104347122156,null,{"$f":"IF(ISBLANK($B14),\"\",IF(ISBLANK(O14),0,IF(O14<11,LOOKUP(O14,bodovani!$A$2:$B$11),0)))","v":0},null,"0",null,11,null,744.45683416472934,8,null,null,null,null,null,null,null,11,2,12]
[9,"KOŠÁRKOVÁ -23",8,{"$f":"IF(ISBLANK($B15),\"\",IF(ISBLANK(C15),0,IF(C15<11,LOOKUP(C15,bodovani!$A$2:$B$11),0)))","v":3},359.35,172.50322287100937,null,{"$f":"IF(ISBLANK($B15),\"\",IF(ISBLANK(G15),0,IF(G15<11,LOOKUP(G15,bodovani!$A$2:$B$11),0)))","v":0},null,999,8,{"$f":"IF(ISBLANK($B15),\"\",IF(ISBLANK(K15),0,IF(K15<11,LOOKUP(K15,bodovani!$A$2:$B$11),0)))","v":3},168.13,36.10458997814294,null,{"$f":"IF(ISBLANK($B15),\"\",IF(ISBLANK(O15),0,IF(O15<11,LOOKUP(O15,bodovani!$A$2:$B$11),0)))","v":0},null,"0",null,6,1,208.6078128491522,9,null,null,null,null,null,null,null,6,12,10]
[10,"ŘÍHOVÁ - 23",null,{"$f":"IF(ISBLANK($B16),\"\",IF(ISBLANK(C16),0,IF(C16<11,LOOKUP(C16,bodovani!$A$2:$B$11),0)))","v":0},null,999,null,{"$f":"IF(ISBLANK($B16),\"\",IF(ISBLANK(G16),0,IF(G16<11,LOOKUP(G16,bodovani!$A$2:$B$11),0)))","v":0},null,999,5,{"$f":"IF(ISBLANK($B16),\"\",IF(ISBLANK(K16),0,IF(K16<11,LOOKUP(K16,bodovani!$A$2:$B$11),0)))","v":6},143.24,15.955638306484261,null,{"$f":"IF(ISBLANK($B16),\"\",IF(ISBLANK(O16),0,IF(O16<11,LOOKUP(O16,bodovani!$A$2:$B$11),0)))","v":0},null,"0",null,6,1,1014.9556383064842,10,null,null,null,null,null,null,null,6,6,1999]
[11,"POSPÍCHALOVÁ -23",null,{"$f":"IF(ISBLANK($B17),\"\",IF(ISBLANK(C17),0,IF(C17<11,LOOKUP(C17,bodovani!$A$2:$B$11),0)))","v":0},null,999,null,{"$f":"IF(ISBLANK($B17),\"\",IF(ISBLANK(G17),0,IF(G17<11,LOOKUP(G17,bodovani!$A$2:$B$11),0)))","v":0},null,999,10,{"$f":"IF(ISBLANK($B17),\"\",IF(ISBLANK(K17),0,IF(K17<11,LOOKUP(K17,bodovani!$A$2:$B$11),0)))","v":1},999,708.7104347122156,null,{"$f":"IF(ISBLANK($B17),\"\",IF(ISBLANK(O17),0,IF(O17<11,LOOKUP(O17,bodovani!$A$2:$B$11),0)))","v":0},null,"0",null,1,null,1707.7104347122158,11,null,null,null,null,null,null,null,5,8,9]
[12,"FRYŠOVÁ - 23",null,{"$f":"IF(ISBLANK($B18),\"\",IF(ISBLANK(C18),0,IF(C18<11,LOOKUP(C18,bodovani!$A$2:$B$11),0)))","v":0},null,999,null,{"$f":"IF(ISBLANK($B18),\"\",IF(ISBLANK(G18),0,IF(G18<11,LOOKUP(G18,bodovani!$A$2:$B$11),0)))","v":0},null,999,null,{"$f":"IF(ISBLANK($B18),\"\",IF(ISBLANK(K18),0,IF(K18<11,LOOKUP(K18,bodovani!$A$2:$B$11),0)))","v":0},null,999,null,{"$f":"IF(ISBLANK($B18),\"\",IF(ISBLANK(O18),0,IF(O18<11,LOOKUP(O18,bodovani!$A$2:$B$11),0)))","v":0},null,"0",null,0,null,1998,12,null,null,null,null,null,null,null,4,1,13]
[13,null,null,{"$f":"IF(ISBLANK($B19),\"\",IF(ISBLANK(C19),0,IF(C19<11,LOOKUP(C19,bodovani!$A$2:$B$11),0)))","v":""},null,999,null,{"$f":"IF(ISBLANK($B19),\"\",IF(ISBLANK(G19),0,IF(G19<11,LOOKUP(G19,bodovani!$A$2:$B$11),0)))","v":""},null,999,null,{"$f":"IF(ISBLANK($B19),\"\",IF(ISBLANK(K19),0,IF(K19<11,LOOKUP(K19,bodovani!$A$2:$B$11),0)))","v":""},null,999,null,{"$f":"IF(ISBLANK($B19),\"\",IF(ISBLANK(O19),0,IF(O19<11,LOOKUP(O19,bodovani!$A$2:$B$11),0)))","v":""},null,"0",null,{"$error":"#VALUE!"},null,1998,null,null,null,null,null,null,null,null,3,4,7]
[14,null,null,{"$f":"IF(ISBLANK($B20),\"\",IF(ISBLANK(C20),0,IF(C20<11,LOOKUP(C20,bodovani!$A$2:$B$11),0)))","v":""},null,999,null,{"$f":"IF(ISBLANK($B20),\"\",IF(ISBLANK(G20),0,IF(G20<11,LOOKUP(G20,bodovani!$A$2:$B$11),0)))","v":""},null,999,null,{"$f":"IF(ISBLANK($B20),\"\",IF(ISBLANK(K20),0,IF(K20<11,LOOKUP(K20,bodovani!$A$2:$B$11),0)))","v":""},null,999,null,{"$f":"IF(ISBLANK($B20),\"\",IF(ISBLANK(O20),0,IF(O20<11,LOOKUP(O20,bodovani!$A$2:$B$11),0)))","v":""},null,"0",null,{"$error":"#VALUE!"},null,1998,null,null,null,null,null,null,null,null,0,12,0]
[15,null,null,{"$f":"IF(ISBLANK($B21),\"\",IF(ISBLANK(C21),0,IF(C21<11,LOOKUP(C21,bodovani!$A$2:$B$11),0)))","v":""},null,999,null,{"$f":"IF(ISBLANK($B21),\"\",IF(ISBLANK(G21),0,IF(G21<11,LOOKUP(G21,bodovani!$A$2:$B$11),0)))","v":""},null,999,null,{"$f":"IF(ISBLANK($B21),\"\",IF(ISBLANK(K21),0,IF(K21<11,LOOKUP(K21,bodovani!$A$2:$B$11),0)))","v":""},null,999,null,{"$f":"IF(ISBLANK($B21),\"\",IF(ISBLANK(O21),0,IF(O21<11,LOOKUP(O21,bodovani!$A$2:$B$11),0)))","v":""},null,"0",null,{"$error":"#VALUE!"},null,1998,null,null,null,null,null,null,null,null,5,15,37]
[16,null,null,{"$f":"IF(ISBLANK($B22),\"\",IF(ISBLANK(C22),0,IF(C22<11,LOOKUP(C22,bodovani!$A$2:$B$11),0)))","v":""},null,999,null,{"$f":"IF(ISBLANK($B22),\"\",IF(ISBLANK(G22),0,IF(G22<11,LOOKUP(G22,bodovani!$A$2:$B$11),0)))","v":""},null,999,null,{"$f":"IF(ISBLANK($B22),\"\",IF(ISBLANK(K22),0,IF(K22<11,LOOKUP(K22,bodovani!$A$2:$B$11),0)))","v":""},null,999,null,{"$f":"IF(ISBLANK($B22),\"\",IF(ISBLANK(O22),0,IF(O22<11,LOOKUP(O22,bodovani!$A$2:$B$11),0)))","v":""},null,"0",null,{"$error":"#VALUE!"},null,1998,null,null,null,null,null,null,null,null,4,33,1999]
[17,null,null,{"$f":"IF(ISBLANK($B23),\"\",IF(ISBLANK(C23),0,IF(C23<11,LOOKUP(C23,bodovani!$A$2:$B$11),0)))","v":""},null,999,null,{"$f":"IF(ISBLANK($B23),\"\",IF(ISBLANK(G23),0,IF(G23<11,LOOKUP(G23,bodovani!$A$2:$B$11),0)))","v":""},null,999,null,{"$f":"IF(ISBLANK($B23),\"\",IF(ISBLANK(K23),0,IF(K23<11,LOOKUP(K23,bodovani!$A$2:$B$11),0)))","v":""},null,999,null,{"$f":"IF(ISBLANK($B23),\"\",IF(ISBLANK(O23),0,IF(O23<11,LOOKUP(O23,bodovani!$A$2:$B$11),0)))","v":""},null,"0",null,{"$error":"#VALUE!"},null,1998,null,null,null,null,null,null,null,null,4,27,0]
[18,null,null,{"$f":"IF(ISBLANK($B24),\"\",IF(ISBLANK(C24),0,IF(C24<11,LOOKUP(C24,bodovani!$A$2:$B$11),0)))","v":""},null,999,null,{"$f":"IF(ISBLANK($B24),\"\",IF(ISBLANK(G24),0,IF(G24<11,LOOKUP(G24,bodovani!$A$2:$B$11),0)))","v":""},null,999,null,{"$f":"IF(ISBLANK($B24),\"\",IF(ISBLANK(K24),0,IF(K24<11,LOOKUP(K24,bodovani!$A$2:$B$11),0)))","v":""},null,999,null,{"$f":"IF(ISBLANK($B24),\"\",IF(ISBLANK(O24),0,IF(O24<11,LOOKUP(O24,bodovani!$A$2:$B$11),0)))","v":""},null,"0",null,{"$error":"#VALUE!"},null,1998,null,null,null,null,null,null,null,null,3,26,29]
[19,null,null,{"$f":"IF(ISBLANK($B25),\"\",IF(ISBLANK(C25),0,IF(C25<11,LOOKUP(C25,bodovani!$A$2:$B$11),0)))","v":""},null,999,null,{"$f":"IF(ISBLANK($B25),\"\",IF(ISBLANK(G25),0,IF(G25<11,LOOKUP(G25,bodovani!$A$2:$B$11),0)))","v":""},null,999,null,{"$f":"IF(ISBLANK($B25),\"\",IF(ISBLANK(K25),0,IF(K25<11,LOOKUP(K25,bodovani!$A$2:$B$11),0)))","v":""},null,999,null,{"$f":"IF(ISBLANK($B25),\"\",IF(ISBLANK(O25),0,IF(O25<11,LOOKUP(O25,bodovani!$A$2:$B$11),0)))","v":""},null,"0",null,{"$error":"#VALUE!"},null,1998,null,null,null,null,null,null,null,null,3,20,1999]
[20,null,null,{"$f":"IF(ISBLANK($B26),\"\",IF(ISBLANK(C26),0,IF(C26<11,LOOKUP(C26,bodovani!$A$2:$B$11),0)))","v":""},null,999,null,{"$f":"IF(ISBLANK($B26),\"\",IF(ISBLANK(G26),0,IF(G26<11,LOOKUP(G26,bodovani!$A$2:$B$11),0)))","v":""},null,999,null,{"$f":"IF(ISBLANK($B26),\"\",IF(ISBLANK(K26),0,IF(K26<11,LOOKUP(K26,bodovani!$A$2:$B$11),0)))","v":""},null,999,null,{"$f":"IF(ISBLANK($B26),\"\",IF(ISBLANK(O26),0,IF(O26<11,LOOKUP(O26,bodovani!$A$2:$B$11),0)))","v":""},null,"0",null,{"$error":"#VALUE!"},null,1998,null,null,null,null,null,null,null,null,2,37,1999]

{"sheet":"bodovani","index":5,"n_rows":11,"n_cols":2,"rows_kept":11,"cut":false,"hidden":false,"merged":[]}
["Pořadí","Body"]
[1,11]
[2,9]
[3,8]
[4,7]
[5,6]
[6,5]
[7,4]
[8,3]
[9,2]
[10,1]